BEGIN:VCALENDAR
VERSION:2.0
PRODID:-//UP Home Health &amp; Hospice - ECPv6.15.20//NONSGML v1.0//EN
CALSCALE:GREGORIAN
METHOD:PUBLISH
X-ORIGINAL-URL:https://www.uphomehealth.org
X-WR-CALDESC:Events for UP Home Health &amp; Hospice
REFRESH-INTERVAL;VALUE=DURATION:PT1H
X-Robots-Tag:noindex
X-PUBLISHED-TTL:PT1H
BEGIN:VTIMEZONE
TZID:UTC
BEGIN:STANDARD
TZOFFSETFROM:+0000
TZOFFSETTO:+0000
TZNAME:UTC
DTSTART:20250101T000000
END:STANDARD
END:VTIMEZONE
BEGIN:VEVENT
DTSTART;TZID=UTC:20260424T110000
DTEND;TZID=UTC:20260424T120000
DTSTAMP:20260423T160914
CREATED:20251103T195651Z
LAST-MODIFIED:20251104T153035Z
UID:10067697-1777028400-1777032000@www.uphomehealth.org
SUMMARY:Marquette Senior Center- Free Wellness Clinic
DESCRIPTION:Marquette Senior Center \n11:00 am -12:00 pm
URL:https://www.uphomehealth.org/event/marquette-senior-center-clinic/2026-04-24/
LOCATION:Marquette Senior Center\, 300 W. Spring Street\, Marquette\, 49855\, United States
END:VEVENT
BEGIN:VEVENT
DTSTART;TZID=UTC:20260522T110000
DTEND;TZID=UTC:20260522T120000
DTSTAMP:20260423T160914
CREATED:20251103T195651Z
LAST-MODIFIED:20251104T153035Z
UID:10067698-1779447600-1779451200@www.uphomehealth.org
SUMMARY:Marquette Senior Center- Free Wellness Clinic
DESCRIPTION:Marquette Senior Center \n11:00 am -12:00 pm
URL:https://www.uphomehealth.org/event/marquette-senior-center-clinic/2026-05-22/
LOCATION:Marquette Senior Center\, 300 W. Spring Street\, Marquette\, 49855\, United States
END:VEVENT
BEGIN:VEVENT
DTSTART;TZID=UTC:20260626T110000
DTEND;TZID=UTC:20260626T120000
DTSTAMP:20260423T160914
CREATED:20251103T195651Z
LAST-MODIFIED:20251104T153035Z
UID:10067699-1782471600-1782475200@www.uphomehealth.org
SUMMARY:Marquette Senior Center- Free Wellness Clinic
DESCRIPTION:Marquette Senior Center \n11:00 am -12:00 pm
URL:https://www.uphomehealth.org/event/marquette-senior-center-clinic/2026-06-26/
LOCATION:Marquette Senior Center\, 300 W. Spring Street\, Marquette\, 49855\, United States
END:VEVENT
BEGIN:VEVENT
DTSTART;TZID=UTC:20260724T110000
DTEND;TZID=UTC:20260724T120000
DTSTAMP:20260423T160914
CREATED:20251103T195651Z
LAST-MODIFIED:20251104T153035Z
UID:10067700-1784890800-1784894400@www.uphomehealth.org
SUMMARY:Marquette Senior Center- Free Wellness Clinic
DESCRIPTION:Marquette Senior Center \n11:00 am -12:00 pm
URL:https://www.uphomehealth.org/event/marquette-senior-center-clinic/2026-07-24/
LOCATION:Marquette Senior Center\, 300 W. Spring Street\, Marquette\, 49855\, United States
END:VEVENT
BEGIN:VEVENT
DTSTART;TZID=UTC:20260828T110000
DTEND;TZID=UTC:20260828T120000
DTSTAMP:20260423T160914
CREATED:20251103T195651Z
LAST-MODIFIED:20251104T153035Z
UID:10067701-1787914800-1787918400@www.uphomehealth.org
SUMMARY:Marquette Senior Center- Free Wellness Clinic
DESCRIPTION:Marquette Senior Center \n11:00 am -12:00 pm
URL:https://www.uphomehealth.org/event/marquette-senior-center-clinic/2026-08-28/
LOCATION:Marquette Senior Center\, 300 W. Spring Street\, Marquette\, 49855\, United States
END:VEVENT
BEGIN:VEVENT
DTSTART;TZID=UTC:20260925T110000
DTEND;TZID=UTC:20260925T120000
DTSTAMP:20260423T160914
CREATED:20251103T195651Z
LAST-MODIFIED:20251104T153035Z
UID:10067702-1790334000-1790337600@www.uphomehealth.org
SUMMARY:Marquette Senior Center- Free Wellness Clinic
DESCRIPTION:Marquette Senior Center \n11:00 am -12:00 pm
URL:https://www.uphomehealth.org/event/marquette-senior-center-clinic/2026-09-25/
LOCATION:Marquette Senior Center\, 300 W. Spring Street\, Marquette\, 49855\, United States
END:VEVENT
BEGIN:VEVENT
DTSTART;TZID=UTC:20261023T110000
DTEND;TZID=UTC:20261023T120000
DTSTAMP:20260423T160914
CREATED:20251103T195651Z
LAST-MODIFIED:20251104T153035Z
UID:10067703-1792753200-1792756800@www.uphomehealth.org
SUMMARY:Marquette Senior Center- Free Wellness Clinic
DESCRIPTION:Marquette Senior Center \n11:00 am -12:00 pm
URL:https://www.uphomehealth.org/event/marquette-senior-center-clinic/2026-10-23/
LOCATION:Marquette Senior Center\, 300 W. Spring Street\, Marquette\, 49855\, United States
END:VEVENT
BEGIN:VEVENT
DTSTART;TZID=UTC:20261127T110000
DTEND;TZID=UTC:20261127T120000
DTSTAMP:20260423T160914
CREATED:20251103T195651Z
LAST-MODIFIED:20251104T153035Z
UID:10067704-1795777200-1795780800@www.uphomehealth.org
SUMMARY:Marquette Senior Center- Free Wellness Clinic
DESCRIPTION:Marquette Senior Center \n11:00 am -12:00 pm
URL:https://www.uphomehealth.org/event/marquette-senior-center-clinic/2026-11-27/
LOCATION:Marquette Senior Center\, 300 W. Spring Street\, Marquette\, 49855\, United States
END:VEVENT
BEGIN:VEVENT
DTSTART;TZID=UTC:20261225T110000
DTEND;TZID=UTC:20261225T120000
DTSTAMP:20260423T160914
CREATED:20251103T195651Z
LAST-MODIFIED:20251104T153035Z
UID:10067705-1798196400-1798200000@www.uphomehealth.org
SUMMARY:Marquette Senior Center- Free Wellness Clinic
DESCRIPTION:Marquette Senior Center \n11:00 am -12:00 pm
URL:https://www.uphomehealth.org/event/marquette-senior-center-clinic/2026-12-25/
LOCATION:Marquette Senior Center\, 300 W. Spring Street\, Marquette\, 49855\, United States
END:VEVENT
BEGIN:VEVENT
DTSTART;TZID=UTC:20270122T110000
DTEND;TZID=UTC:20270122T120000
DTSTAMP:20260423T160914
CREATED:20251103T195651Z
LAST-MODIFIED:20251104T153035Z
UID:10067706-1800615600-1800619200@www.uphomehealth.org
SUMMARY:Marquette Senior Center- Free Wellness Clinic
DESCRIPTION:Marquette Senior Center \n11:00 am -12:00 pm
URL:https://www.uphomehealth.org/event/marquette-senior-center-clinic/2027-01-22/
LOCATION:Marquette Senior Center\, 300 W. Spring Street\, Marquette\, 49855\, United States
END:VEVENT
BEGIN:VEVENT
DTSTART;TZID=UTC:20270226T110000
DTEND;TZID=UTC:20270226T120000
DTSTAMP:20260423T160914
CREATED:20251103T195651Z
LAST-MODIFIED:20251104T153035Z
UID:10067707-1803639600-1803643200@www.uphomehealth.org
SUMMARY:Marquette Senior Center- Free Wellness Clinic
DESCRIPTION:Marquette Senior Center \n11:00 am -12:00 pm
URL:https://www.uphomehealth.org/event/marquette-senior-center-clinic/2027-02-26/
LOCATION:Marquette Senior Center\, 300 W. Spring Street\, Marquette\, 49855\, United States
END:VEVENT
BEGIN:VEVENT
DTSTART;TZID=UTC:20270326T110000
DTEND;TZID=UTC:20270326T120000
DTSTAMP:20260423T160914
CREATED:20251103T195651Z
LAST-MODIFIED:20251104T153035Z
UID:10067708-1806058800-1806062400@www.uphomehealth.org
SUMMARY:Marquette Senior Center- Free Wellness Clinic
DESCRIPTION:Marquette Senior Center \n11:00 am -12:00 pm
URL:https://www.uphomehealth.org/event/marquette-senior-center-clinic/2027-03-26/
LOCATION:Marquette Senior Center\, 300 W. Spring Street\, Marquette\, 49855\, United States
END:VEVENT
BEGIN:VEVENT
DTSTART;TZID=UTC:20270423T110000
DTEND;TZID=UTC:20270423T120000
DTSTAMP:20260423T160914
CREATED:20251103T195651Z
LAST-MODIFIED:20251104T153035Z
UID:10067709-1808478000-1808481600@www.uphomehealth.org
SUMMARY:Marquette Senior Center- Free Wellness Clinic
DESCRIPTION:Marquette Senior Center \n11:00 am -12:00 pm
URL:https://www.uphomehealth.org/event/marquette-senior-center-clinic/2027-04-23/
LOCATION:Marquette Senior Center\, 300 W. Spring Street\, Marquette\, 49855\, United States
END:VEVENT
BEGIN:VEVENT
DTSTART;TZID=UTC:20270528T110000
DTEND;TZID=UTC:20270528T120000
DTSTAMP:20260423T160914
CREATED:20251103T195651Z
LAST-MODIFIED:20251104T153035Z
UID:10067710-1811502000-1811505600@www.uphomehealth.org
SUMMARY:Marquette Senior Center- Free Wellness Clinic
DESCRIPTION:Marquette Senior Center \n11:00 am -12:00 pm
URL:https://www.uphomehealth.org/event/marquette-senior-center-clinic/2027-05-28/
LOCATION:Marquette Senior Center\, 300 W. Spring Street\, Marquette\, 49855\, United States
END:VEVENT
BEGIN:VEVENT
DTSTART;TZID=UTC:20270625T110000
DTEND;TZID=UTC:20270625T120000
DTSTAMP:20260423T160914
CREATED:20251103T195651Z
LAST-MODIFIED:20251104T153035Z
UID:10067711-1813921200-1813924800@www.uphomehealth.org
SUMMARY:Marquette Senior Center- Free Wellness Clinic
DESCRIPTION:Marquette Senior Center \n11:00 am -12:00 pm
URL:https://www.uphomehealth.org/event/marquette-senior-center-clinic/2027-06-25/
LOCATION:Marquette Senior Center\, 300 W. Spring Street\, Marquette\, 49855\, United States
END:VEVENT
BEGIN:VEVENT
DTSTART;TZID=UTC:20270723T110000
DTEND;TZID=UTC:20270723T120000
DTSTAMP:20260423T160914
CREATED:20251103T195651Z
LAST-MODIFIED:20251104T153035Z
UID:10067712-1816340400-1816344000@www.uphomehealth.org
SUMMARY:Marquette Senior Center- Free Wellness Clinic
DESCRIPTION:Marquette Senior Center \n11:00 am -12:00 pm
URL:https://www.uphomehealth.org/event/marquette-senior-center-clinic/2027-07-23/
LOCATION:Marquette Senior Center\, 300 W. Spring Street\, Marquette\, 49855\, United States
END:VEVENT
BEGIN:VEVENT
DTSTART;TZID=UTC:20270827T110000
DTEND;TZID=UTC:20270827T120000
DTSTAMP:20260423T160914
CREATED:20251103T195651Z
LAST-MODIFIED:20251104T153035Z
UID:10067713-1819364400-1819368000@www.uphomehealth.org
SUMMARY:Marquette Senior Center- Free Wellness Clinic
DESCRIPTION:Marquette Senior Center \n11:00 am -12:00 pm
URL:https://www.uphomehealth.org/event/marquette-senior-center-clinic/2027-08-27/
LOCATION:Marquette Senior Center\, 300 W. Spring Street\, Marquette\, 49855\, United States
END:VEVENT
BEGIN:VEVENT
DTSTART;TZID=UTC:20270924T110000
DTEND;TZID=UTC:20270924T120000
DTSTAMP:20260423T160914
CREATED:20251103T195651Z
LAST-MODIFIED:20251104T153035Z
UID:10067714-1821783600-1821787200@www.uphomehealth.org
SUMMARY:Marquette Senior Center- Free Wellness Clinic
DESCRIPTION:Marquette Senior Center \n11:00 am -12:00 pm
URL:https://www.uphomehealth.org/event/marquette-senior-center-clinic/2027-09-24/
LOCATION:Marquette Senior Center\, 300 W. Spring Street\, Marquette\, 49855\, United States
END:VEVENT
BEGIN:VEVENT
DTSTART;TZID=UTC:20271022T110000
DTEND;TZID=UTC:20271022T120000
DTSTAMP:20260423T160914
CREATED:20251103T195651Z
LAST-MODIFIED:20251104T153035Z
UID:10067715-1824202800-1824206400@www.uphomehealth.org
SUMMARY:Marquette Senior Center- Free Wellness Clinic
DESCRIPTION:Marquette Senior Center \n11:00 am -12:00 pm
URL:https://www.uphomehealth.org/event/marquette-senior-center-clinic/2027-10-22/
LOCATION:Marquette Senior Center\, 300 W. Spring Street\, Marquette\, 49855\, United States
END:VEVENT
BEGIN:VEVENT
DTSTART;TZID=UTC:20271126T110000
DTEND;TZID=UTC:20271126T120000
DTSTAMP:20260423T160914
CREATED:20251103T195651Z
LAST-MODIFIED:20251104T153035Z
UID:10067716-1827226800-1827230400@www.uphomehealth.org
SUMMARY:Marquette Senior Center- Free Wellness Clinic
DESCRIPTION:Marquette Senior Center \n11:00 am -12:00 pm
URL:https://www.uphomehealth.org/event/marquette-senior-center-clinic/2027-11-26/
LOCATION:Marquette Senior Center\, 300 W. Spring Street\, Marquette\, 49855\, United States
END:VEVENT
BEGIN:VEVENT
DTSTART;TZID=UTC:20271224T110000
DTEND;TZID=UTC:20271224T120000
DTSTAMP:20260423T160914
CREATED:20251103T195651Z
LAST-MODIFIED:20251104T153035Z
UID:10067717-1829646000-1829649600@www.uphomehealth.org
SUMMARY:Marquette Senior Center- Free Wellness Clinic
DESCRIPTION:Marquette Senior Center \n11:00 am -12:00 pm
URL:https://www.uphomehealth.org/event/marquette-senior-center-clinic/2027-12-24/
LOCATION:Marquette Senior Center\, 300 W. Spring Street\, Marquette\, 49855\, United States
END:VEVENT
BEGIN:VEVENT
DTSTART;TZID=UTC:20280128T110000
DTEND;TZID=UTC:20280128T120000
DTSTAMP:20260423T160914
CREATED:20251103T195651Z
LAST-MODIFIED:20251104T153035Z
UID:10067718-1832670000-1832673600@www.uphomehealth.org
SUMMARY:Marquette Senior Center- Free Wellness Clinic
DESCRIPTION:Marquette Senior Center \n11:00 am -12:00 pm
URL:https://www.uphomehealth.org/event/marquette-senior-center-clinic/2028-01-28/
LOCATION:Marquette Senior Center\, 300 W. Spring Street\, Marquette\, 49855\, United States
END:VEVENT
BEGIN:VEVENT
DTSTART;TZID=UTC:20280225T110000
DTEND;TZID=UTC:20280225T120000
DTSTAMP:20260423T160914
CREATED:20251103T195651Z
LAST-MODIFIED:20251104T153035Z
UID:10067719-1835089200-1835092800@www.uphomehealth.org
SUMMARY:Marquette Senior Center- Free Wellness Clinic
DESCRIPTION:Marquette Senior Center \n11:00 am -12:00 pm
URL:https://www.uphomehealth.org/event/marquette-senior-center-clinic/2028-02-25/
LOCATION:Marquette Senior Center\, 300 W. Spring Street\, Marquette\, 49855\, United States
END:VEVENT
BEGIN:VEVENT
DTSTART;TZID=UTC:20280324T110000
DTEND;TZID=UTC:20280324T120000
DTSTAMP:20260423T160914
CREATED:20251103T195651Z
LAST-MODIFIED:20251104T153035Z
UID:10067720-1837508400-1837512000@www.uphomehealth.org
SUMMARY:Marquette Senior Center- Free Wellness Clinic
DESCRIPTION:Marquette Senior Center \n11:00 am -12:00 pm
URL:https://www.uphomehealth.org/event/marquette-senior-center-clinic/2028-03-24/
LOCATION:Marquette Senior Center\, 300 W. Spring Street\, Marquette\, 49855\, United States
END:VEVENT
BEGIN:VEVENT
DTSTART;TZID=UTC:20280428T110000
DTEND;TZID=UTC:20280428T120000
DTSTAMP:20260423T160914
CREATED:20251103T195651Z
LAST-MODIFIED:20251104T153035Z
UID:10067721-1840532400-1840536000@www.uphomehealth.org
SUMMARY:Marquette Senior Center- Free Wellness Clinic
DESCRIPTION:Marquette Senior Center \n11:00 am -12:00 pm
URL:https://www.uphomehealth.org/event/marquette-senior-center-clinic/2028-04-28/
LOCATION:Marquette Senior Center\, 300 W. Spring Street\, Marquette\, 49855\, United States
END:VEVENT
BEGIN:VEVENT
DTSTART;TZID=UTC:20280526T110000
DTEND;TZID=UTC:20280526T120000
DTSTAMP:20260423T160914
CREATED:20251103T195651Z
LAST-MODIFIED:20251104T153035Z
UID:10067722-1842951600-1842955200@www.uphomehealth.org
SUMMARY:Marquette Senior Center- Free Wellness Clinic
DESCRIPTION:Marquette Senior Center \n11:00 am -12:00 pm
URL:https://www.uphomehealth.org/event/marquette-senior-center-clinic/2028-05-26/
LOCATION:Marquette Senior Center\, 300 W. Spring Street\, Marquette\, 49855\, United States
END:VEVENT
BEGIN:VEVENT
DTSTART;TZID=UTC:20280623T110000
DTEND;TZID=UTC:20280623T120000
DTSTAMP:20260423T160914
CREATED:20251103T195651Z
LAST-MODIFIED:20251104T153035Z
UID:10067723-1845370800-1845374400@www.uphomehealth.org
SUMMARY:Marquette Senior Center- Free Wellness Clinic
DESCRIPTION:Marquette Senior Center \n11:00 am -12:00 pm
URL:https://www.uphomehealth.org/event/marquette-senior-center-clinic/2028-06-23/
LOCATION:Marquette Senior Center\, 300 W. Spring Street\, Marquette\, 49855\, United States
END:VEVENT
BEGIN:VEVENT
DTSTART;TZID=UTC:20280728T110000
DTEND;TZID=UTC:20280728T120000
DTSTAMP:20260423T160914
CREATED:20251103T195651Z
LAST-MODIFIED:20251104T153035Z
UID:10067724-1848394800-1848398400@www.uphomehealth.org
SUMMARY:Marquette Senior Center- Free Wellness Clinic
DESCRIPTION:Marquette Senior Center \n11:00 am -12:00 pm
URL:https://www.uphomehealth.org/event/marquette-senior-center-clinic/2028-07-28/
LOCATION:Marquette Senior Center\, 300 W. Spring Street\, Marquette\, 49855\, United States
END:VEVENT
BEGIN:VEVENT
DTSTART;TZID=UTC:20280825T110000
DTEND;TZID=UTC:20280825T120000
DTSTAMP:20260423T160914
CREATED:20251103T195651Z
LAST-MODIFIED:20251104T153035Z
UID:10067725-1850814000-1850817600@www.uphomehealth.org
SUMMARY:Marquette Senior Center- Free Wellness Clinic
DESCRIPTION:Marquette Senior Center \n11:00 am -12:00 pm
URL:https://www.uphomehealth.org/event/marquette-senior-center-clinic/2028-08-25/
LOCATION:Marquette Senior Center\, 300 W. Spring Street\, Marquette\, 49855\, United States
END:VEVENT
BEGIN:VEVENT
DTSTART;TZID=UTC:20280922T110000
DTEND;TZID=UTC:20280922T120000
DTSTAMP:20260423T160914
CREATED:20251103T195651Z
LAST-MODIFIED:20251104T153035Z
UID:10067726-1853233200-1853236800@www.uphomehealth.org
SUMMARY:Marquette Senior Center- Free Wellness Clinic
DESCRIPTION:Marquette Senior Center \n11:00 am -12:00 pm
URL:https://www.uphomehealth.org/event/marquette-senior-center-clinic/2028-09-22/
LOCATION:Marquette Senior Center\, 300 W. Spring Street\, Marquette\, 49855\, United States
END:VEVENT
END:VCALENDAR