BEGIN:VCALENDAR
VERSION:2.0
PRODID:-//UP Home Health &amp; Hospice - ECPv6.15.20//NONSGML v1.0//EN
CALSCALE:GREGORIAN
METHOD:PUBLISH
X-WR-CALNAME:UP Home Health &amp; Hospice
X-ORIGINAL-URL:https://www.uphomehealth.org
X-WR-CALDESC:Events for UP Home Health &amp; Hospice
REFRESH-INTERVAL;VALUE=DURATION:PT1H
X-Robots-Tag:noindex
X-PUBLISHED-TTL:PT1H
BEGIN:VTIMEZONE
TZID:UTC
BEGIN:STANDARD
TZOFFSETFROM:+0000
TZOFFSETTO:+0000
TZNAME:UTC
DTSTART:20240101T000000
END:STANDARD
END:VTIMEZONE
BEGIN:VEVENT
DTSTART;TZID=UTC:20260327T110000
DTEND;TZID=UTC:20260327T120000
DTSTAMP:20260423T174702
CREATED:20251103T195651Z
LAST-MODIFIED:20251104T153035Z
UID:10067696-1774609200-1774612800@www.uphomehealth.org
SUMMARY:Marquette Senior Center- Free Wellness Clinic
DESCRIPTION:Marquette Senior Center \n11:00 am -12:00 pm
URL:https://www.uphomehealth.org/event/marquette-senior-center-clinic/2026-03-27/
LOCATION:Marquette Senior Center\, 300 W. Spring Street\, Marquette\, 49855\, United States
END:VEVENT
BEGIN:VEVENT
DTSTART;TZID=UTC:20260227T110000
DTEND;TZID=UTC:20260227T120000
DTSTAMP:20260423T174702
CREATED:20251103T195651Z
LAST-MODIFIED:20251104T153035Z
UID:10067695-1772190000-1772193600@www.uphomehealth.org
SUMMARY:Marquette Senior Center- Free Wellness Clinic
DESCRIPTION:Marquette Senior Center \n11:00 am -12:00 pm
URL:https://www.uphomehealth.org/event/marquette-senior-center-clinic/2026-02-27/
LOCATION:Marquette Senior Center\, 300 W. Spring Street\, Marquette\, 49855\, United States
END:VEVENT
BEGIN:VEVENT
DTSTART;TZID=UTC:20260123T110000
DTEND;TZID=UTC:20260123T120000
DTSTAMP:20260423T174702
CREATED:20251103T195651Z
LAST-MODIFIED:20251104T153035Z
UID:10067694-1769166000-1769169600@www.uphomehealth.org
SUMMARY:Marquette Senior Center- Free Wellness Clinic
DESCRIPTION:Marquette Senior Center \n11:00 am -12:00 pm
URL:https://www.uphomehealth.org/event/marquette-senior-center-clinic/2026-01-23/
LOCATION:Marquette Senior Center\, 300 W. Spring Street\, Marquette\, 49855\, United States
END:VEVENT
BEGIN:VEVENT
DTSTART;TZID=UTC:20251226T110000
DTEND;TZID=UTC:20251226T120000
DTSTAMP:20260423T174702
CREATED:20251103T195651Z
LAST-MODIFIED:20251104T153035Z
UID:10067693-1766746800-1766750400@www.uphomehealth.org
SUMMARY:Marquette Senior Center- Free Wellness Clinic
DESCRIPTION:Marquette Senior Center \n11:00 am -12:00 pm
URL:https://www.uphomehealth.org/event/marquette-senior-center-clinic/2025-12-26/
LOCATION:Marquette Senior Center\, 300 W. Spring Street\, Marquette\, 49855\, United States
END:VEVENT
BEGIN:VEVENT
DTSTART;TZID=UTC:20251128T110000
DTEND;TZID=UTC:20251128T120000
DTSTAMP:20260423T174702
CREATED:20251103T195651Z
LAST-MODIFIED:20251104T153035Z
UID:10067692-1764327600-1764331200@www.uphomehealth.org
SUMMARY:Marquette Senior Center- Free Wellness Clinic
DESCRIPTION:Marquette Senior Center \n11:00 am -12:00 pm
URL:https://www.uphomehealth.org/event/marquette-senior-center-clinic/2025-11-28/
LOCATION:Marquette Senior Center\, 300 W. Spring Street\, Marquette\, 49855\, United States
END:VEVENT
END:VCALENDAR