BEGIN:VCALENDAR
VERSION:2.0
PRODID:-//UP Home Health &amp; Hospice - ECPv6.15.20//NONSGML v1.0//EN
CALSCALE:GREGORIAN
METHOD:PUBLISH
X-WR-CALNAME:UP Home Health &amp; Hospice
X-ORIGINAL-URL:https://www.uphomehealth.org
X-WR-CALDESC:Events for UP Home Health &amp; Hospice
REFRESH-INTERVAL;VALUE=DURATION:PT1H
X-Robots-Tag:noindex
X-PUBLISHED-TTL:PT1H
BEGIN:VTIMEZONE
TZID:UTC
BEGIN:STANDARD
TZOFFSETFROM:+0000
TZOFFSETTO:+0000
TZNAME:UTC
DTSTART:20250101T000000
END:STANDARD
END:VTIMEZONE
BEGIN:VEVENT
DTSTART;VALUE=DATE:20261111
DTEND;VALUE=DATE:20261112
DTSTAMP:20260423T163608
CREATED:20251104T205123Z
LAST-MODIFIED:20251104T205257Z
UID:10068772-1794355200-1794441599@www.uphomehealth.org
SUMMARY:Veterans Day
DESCRIPTION:November 11\, Private Veterans Day Ceremonies\nAs part of National Care at Home Month and our We Honor Veterans program\, we will be hosting private Veterans Day ceremonies to honor the brave men and women who have served our country that are in our Hospice Program. These intimate gatherings provide a meaningful opportunity to thank our veteran patients for their service and sacrifice\, offering personalized recognition and remembrance in the comfort of their own care setting.
URL:https://www.uphomehealth.org/event/national-care-at-home-month-veterans-day/2026-11-11/
END:VEVENT
BEGIN:VEVENT
DTSTART;VALUE=DATE:20271111
DTEND;VALUE=DATE:20271112
DTSTAMP:20260423T163608
CREATED:20251104T205123Z
LAST-MODIFIED:20251104T205257Z
UID:10068773-1825891200-1825977599@www.uphomehealth.org
SUMMARY:Veterans Day
DESCRIPTION:November 11\, Private Veterans Day Ceremonies\nAs part of National Care at Home Month and our We Honor Veterans program\, we will be hosting private Veterans Day ceremonies to honor the brave men and women who have served our country that are in our Hospice Program. These intimate gatherings provide a meaningful opportunity to thank our veteran patients for their service and sacrifice\, offering personalized recognition and remembrance in the comfort of their own care setting.
URL:https://www.uphomehealth.org/event/national-care-at-home-month-veterans-day/2027-11-11/
END:VEVENT
BEGIN:VEVENT
DTSTART;VALUE=DATE:20281111
DTEND;VALUE=DATE:20281112
DTSTAMP:20260423T163608
CREATED:20251104T205123Z
LAST-MODIFIED:20251104T205257Z
UID:10068774-1857513600-1857599999@www.uphomehealth.org
SUMMARY:Veterans Day
DESCRIPTION:November 11\, Private Veterans Day Ceremonies\nAs part of National Care at Home Month and our We Honor Veterans program\, we will be hosting private Veterans Day ceremonies to honor the brave men and women who have served our country that are in our Hospice Program. These intimate gatherings provide a meaningful opportunity to thank our veteran patients for their service and sacrifice\, offering personalized recognition and remembrance in the comfort of their own care setting.
URL:https://www.uphomehealth.org/event/national-care-at-home-month-veterans-day/2028-11-11/
END:VEVENT
BEGIN:VEVENT
DTSTART;VALUE=DATE:20291111
DTEND;VALUE=DATE:20291112
DTSTAMP:20260423T163608
CREATED:20251104T205123Z
LAST-MODIFIED:20251104T205257Z
UID:10068775-1889049600-1889135999@www.uphomehealth.org
SUMMARY:Veterans Day
DESCRIPTION:November 11\, Private Veterans Day Ceremonies\nAs part of National Care at Home Month and our We Honor Veterans program\, we will be hosting private Veterans Day ceremonies to honor the brave men and women who have served our country that are in our Hospice Program. These intimate gatherings provide a meaningful opportunity to thank our veteran patients for their service and sacrifice\, offering personalized recognition and remembrance in the comfort of their own care setting.
URL:https://www.uphomehealth.org/event/national-care-at-home-month-veterans-day/2029-11-11/
END:VEVENT
END:VCALENDAR