BEGIN:VCALENDAR
VERSION:2.0
PRODID:-//UP Home Health &amp; Hospice - ECPv6.15.20//NONSGML v1.0//EN
CALSCALE:GREGORIAN
METHOD:PUBLISH
X-ORIGINAL-URL:https://www.uphomehealth.org
X-WR-CALDESC:Events for UP Home Health &amp; Hospice
REFRESH-INTERVAL;VALUE=DURATION:PT1H
X-Robots-Tag:noindex
X-PUBLISHED-TTL:PT1H
BEGIN:VTIMEZONE
TZID:UTC
BEGIN:STANDARD
TZOFFSETFROM:+0000
TZOFFSETTO:+0000
TZNAME:UTC
DTSTART:20260101T000000
END:STANDARD
END:VTIMEZONE
BEGIN:VEVENT
DTSTART;TZID=UTC:20270101T110000
DTEND;TZID=UTC:20270101T120000
DTSTAMP:20260424T110306
CREATED:20251104T152915Z
LAST-MODIFIED:20251104T152915Z
UID:10067953-1798801200-1798804800@www.uphomehealth.org
SUMMARY:Gwinn Clubhouse- Free Wellness Clinic
DESCRIPTION:Gwinn Clubhouse \nFirst Friday of Every Month \n11:00 am -12:00 pm
URL:https://www.uphomehealth.org/event/gwinn-clubhouse-free-wellness-clinic/2027-01-01/
LOCATION:MI
END:VEVENT
BEGIN:VEVENT
DTSTART;TZID=UTC:20270107T110000
DTEND;TZID=UTC:20270107T120000
DTSTAMP:20260424T110306
CREATED:20251104T154455Z
LAST-MODIFIED:20251104T213536Z
UID:10068852-1799319600-1799323200@www.uphomehealth.org
SUMMARY:Negaunee Senior Center- Free Wellness Clinic
DESCRIPTION:Negaunee Senior Center \nFirst and Third Thursday of Every Month \n12:00 pm -1:00 pm
URL:https://www.uphomehealth.org/event/negaunee-senior-center-free-wellness-clinic/2027-01-07/
LOCATION:MI
END:VEVENT
BEGIN:VEVENT
DTSTART;TZID=UTC:20270113T103000
DTEND;TZID=UTC:20270113T120000
DTSTAMP:20260424T110306
CREATED:20251104T153238Z
LAST-MODIFIED:20251104T153238Z
UID:10068074-1799836200-1799841600@www.uphomehealth.org
SUMMARY:Michigamme Township Hall- Free Wellness Clinic
DESCRIPTION:Michigamme Township Hall \nSecond Tuesday of Every Month \n10:30 am -12:00 pm
URL:https://www.uphomehealth.org/event/michigamme-township-hall-free-wellness-clinic/2027-01-13/
LOCATION:MI
END:VEVENT
BEGIN:VEVENT
DTSTART;TZID=UTC:20270115T110000
DTEND;TZID=UTC:20270115T120000
DTSTAMP:20260424T110306
CREATED:20251104T151243Z
LAST-MODIFIED:20251104T151243Z
UID:10067833-1800010800-1800014400@www.uphomehealth.org
SUMMARY:Ishpeming Senior Center- Free Wellness Clinic
DESCRIPTION:Ishpeming Senior Center \nThird Friday of Every Month \n11:00 am -12:00 pm
URL:https://www.uphomehealth.org/event/ishpeming-senior-center-free-wellness-clinic/2027-01-15/
LOCATION:MI
END:VEVENT
BEGIN:VEVENT
DTSTART;TZID=UTC:20270120T113000
DTEND;TZID=UTC:20270120T123000
DTSTAMP:20260424T110306
CREATED:20251104T154155Z
LAST-MODIFIED:20251104T205431Z
UID:10068790-1800444600-1800448200@www.uphomehealth.org
SUMMARY:Champion Area- Free Wellness Clinic
DESCRIPTION:Champion Township Hall  \nThird Wednesday of Every Month \n11:30 am -12:30 pm \n**In conjunction with Ishpeming Senior Center Congregate Meal- Confirm with Ishpeming Senior Center (906) 485-5527**
URL:https://www.uphomehealth.org/event/champion-area-free-wellness-clinic/2027-01-20/
LOCATION:MI
END:VEVENT
BEGIN:VEVENT
DTSTART;TZID=UTC:20270121T120000
DTEND;TZID=UTC:20270121T130000
DTSTAMP:20260424T110306
CREATED:20251104T154854Z
LAST-MODIFIED:20251104T154854Z
UID:10068674-1800532800-1800536400@www.uphomehealth.org
SUMMARY:Negaunee Senior Center- Free Wellness Clinic
DESCRIPTION:Negaunee Senior Center \nFirst and Third Thursday of Every Month \n12:00 pm -1:00 pm
URL:https://www.uphomehealth.org/event/negaunee-senior-center-free-wellness-clinic-2/2027-01-21/
LOCATION:MI
END:VEVENT
BEGIN:VEVENT
DTSTART;TZID=UTC:20270122T110000
DTEND;TZID=UTC:20270122T120000
DTSTAMP:20260424T110306
CREATED:20251103T195651Z
LAST-MODIFIED:20251104T153035Z
UID:10067706-1800615600-1800619200@www.uphomehealth.org
SUMMARY:Marquette Senior Center- Free Wellness Clinic
DESCRIPTION:Marquette Senior Center \n11:00 am -12:00 pm
URL:https://www.uphomehealth.org/event/marquette-senior-center-clinic/2027-01-22/
LOCATION:Marquette Senior Center\, 300 W. Spring Street\, Marquette\, 49855\, United States
END:VEVENT
BEGIN:VEVENT
DTSTART;TZID=UTC:20270128T113000
DTEND;TZID=UTC:20270128T123000
DTSTAMP:20260424T110306
CREATED:20251104T153634Z
LAST-MODIFIED:20251104T153854Z
UID:10068254-1801135800-1801139400@www.uphomehealth.org
SUMMARY:Republic Area- Free Wellness Clinic
DESCRIPTION:Bethany Lutheran Church\, Republic \nFourth Thursday of Every Month \n11:30 am -12:30 pm \n**In conjunction with Ishpeming Senior Center Congregate Meal- Confirm with Ishpeming Senior Center (906) 485-5527**
URL:https://www.uphomehealth.org/event/republic-area-free-wellness-clinic/2027-01-28/
LOCATION:MI
END:VEVENT
END:VCALENDAR