BEGIN:VCALENDAR
VERSION:2.0
PRODID:-//UP Home Health &amp; Hospice - ECPv6.15.20//NONSGML v1.0//EN
CALSCALE:GREGORIAN
METHOD:PUBLISH
X-WR-CALNAME:UP Home Health &amp; Hospice
X-ORIGINAL-URL:https://www.uphomehealth.org
X-WR-CALDESC:Events for UP Home Health &amp; Hospice
REFRESH-INTERVAL;VALUE=DURATION:PT1H
X-Robots-Tag:noindex
X-PUBLISHED-TTL:PT1H
BEGIN:VTIMEZONE
TZID:UTC
BEGIN:STANDARD
TZOFFSETFROM:+0000
TZOFFSETTO:+0000
TZNAME:UTC
DTSTART:20240101T000000
END:STANDARD
END:VTIMEZONE
BEGIN:VEVENT
DTSTART;TZID=UTC:20251114T080000
DTEND;TZID=UTC:20251201T170000
DTSTAMP:20260424T000205
CREATED:20251104T205851Z
LAST-MODIFIED:20251104T211216Z
UID:10068836-1763107200-1764608400@www.uphomehealth.org
SUMMARY:Super One Pin Pad Campaign
DESCRIPTION:Super One Marquette & Negaunee are helping support the U.P. Hospice Foundation through their Pin Pad Campaign. Shoppers can round-up their purchases or donate at checkout to make a difference\, with all donations directly benefiting programs that provide compassionate care\, support\, and resources to patients and families in our community. Every small contribution helps hospice care possible.
URL:https://www.uphomehealth.org/event/super-one-pin-pad-campaign/
LOCATION:Super One
END:VEVENT
BEGIN:VEVENT
DTSTART;TZID=UTC:20251204T110000
DTEND;TZID=UTC:20251204T120000
DTSTAMP:20260424T000205
CREATED:20251104T154455Z
LAST-MODIFIED:20251104T213536Z
UID:10068840-1764846000-1764849600@www.uphomehealth.org
SUMMARY:Negaunee Senior Center- Free Wellness Clinic
DESCRIPTION:Negaunee Senior Center \nFirst and Third Thursday of Every Month \n12:00 pm -1:00 pm
URL:https://www.uphomehealth.org/event/negaunee-senior-center-free-wellness-clinic/2025-12-04/
LOCATION:MI
END:VEVENT
BEGIN:VEVENT
DTSTART;TZID=UTC:20251205T110000
DTEND;TZID=UTC:20251205T120000
DTSTAMP:20260424T000205
CREATED:20251104T152915Z
LAST-MODIFIED:20251104T152915Z
UID:10067940-1764932400-1764936000@www.uphomehealth.org
SUMMARY:Gwinn Clubhouse- Free Wellness Clinic
DESCRIPTION:Gwinn Clubhouse \nFirst Friday of Every Month \n11:00 am -12:00 pm
URL:https://www.uphomehealth.org/event/gwinn-clubhouse-free-wellness-clinic/2025-12-05/
LOCATION:MI
END:VEVENT
BEGIN:VEVENT
DTSTART;TZID=UTC:20251210T103000
DTEND;TZID=UTC:20251210T120000
DTSTAMP:20260424T000205
CREATED:20251104T153238Z
LAST-MODIFIED:20251104T153238Z
UID:10068061-1765362600-1765368000@www.uphomehealth.org
SUMMARY:Michigamme Township Hall- Free Wellness Clinic
DESCRIPTION:Michigamme Township Hall \nSecond Tuesday of Every Month \n10:30 am -12:00 pm
URL:https://www.uphomehealth.org/event/michigamme-township-hall-free-wellness-clinic/2025-12-10/
LOCATION:MI
END:VEVENT
BEGIN:VEVENT
DTSTART;TZID=UTC:20251217T113000
DTEND;TZID=UTC:20251217T123000
DTSTAMP:20260424T000205
CREATED:20251104T154155Z
LAST-MODIFIED:20251104T205431Z
UID:10068777-1765971000-1765974600@www.uphomehealth.org
SUMMARY:Champion Area- Free Wellness Clinic
DESCRIPTION:Champion Township Hall  \nThird Wednesday of Every Month \n11:30 am -12:30 pm \n**In conjunction with Ishpeming Senior Center Congregate Meal- Confirm with Ishpeming Senior Center (906) 485-5527**
URL:https://www.uphomehealth.org/event/champion-area-free-wellness-clinic/2025-12-17/
LOCATION:MI
END:VEVENT
BEGIN:VEVENT
DTSTART;TZID=UTC:20251218T120000
DTEND;TZID=UTC:20251218T130000
DTSTAMP:20260424T000205
CREATED:20251104T154854Z
LAST-MODIFIED:20251104T154854Z
UID:10068661-1766059200-1766062800@www.uphomehealth.org
SUMMARY:Negaunee Senior Center- Free Wellness Clinic
DESCRIPTION:Negaunee Senior Center \nFirst and Third Thursday of Every Month \n12:00 pm -1:00 pm
URL:https://www.uphomehealth.org/event/negaunee-senior-center-free-wellness-clinic-2/2025-12-18/
LOCATION:MI
END:VEVENT
BEGIN:VEVENT
DTSTART;TZID=UTC:20251219T110000
DTEND;TZID=UTC:20251219T120000
DTSTAMP:20260424T000205
CREATED:20251104T151243Z
LAST-MODIFIED:20251104T151243Z
UID:10067820-1766142000-1766145600@www.uphomehealth.org
SUMMARY:Ishpeming Senior Center- Free Wellness Clinic
DESCRIPTION:Ishpeming Senior Center \nThird Friday of Every Month \n11:00 am -12:00 pm
URL:https://www.uphomehealth.org/event/ishpeming-senior-center-free-wellness-clinic/2025-12-19/
LOCATION:MI
END:VEVENT
BEGIN:VEVENT
DTSTART;TZID=UTC:20251225T113000
DTEND;TZID=UTC:20251225T123000
DTSTAMP:20260424T000205
CREATED:20251104T153634Z
LAST-MODIFIED:20251104T153854Z
UID:10068241-1766662200-1766665800@www.uphomehealth.org
SUMMARY:Republic Area- Free Wellness Clinic
DESCRIPTION:Bethany Lutheran Church\, Republic \nFourth Thursday of Every Month \n11:30 am -12:30 pm \n**In conjunction with Ishpeming Senior Center Congregate Meal- Confirm with Ishpeming Senior Center (906) 485-5527**
URL:https://www.uphomehealth.org/event/republic-area-free-wellness-clinic/2025-12-25/
LOCATION:MI
END:VEVENT
BEGIN:VEVENT
DTSTART;TZID=UTC:20251226T110000
DTEND;TZID=UTC:20251226T120000
DTSTAMP:20260424T000205
CREATED:20251103T195651Z
LAST-MODIFIED:20251104T153035Z
UID:10067693-1766746800-1766750400@www.uphomehealth.org
SUMMARY:Marquette Senior Center- Free Wellness Clinic
DESCRIPTION:Marquette Senior Center \n11:00 am -12:00 pm
URL:https://www.uphomehealth.org/event/marquette-senior-center-clinic/2025-12-26/
LOCATION:Marquette Senior Center\, 300 W. Spring Street\, Marquette\, 49855\, United States
END:VEVENT
END:VCALENDAR