BEGIN:VCALENDAR
VERSION:2.0
PRODID:-//UP Home Health &amp; Hospice - ECPv6.15.20//NONSGML v1.0//EN
CALSCALE:GREGORIAN
METHOD:PUBLISH
X-ORIGINAL-URL:https://www.uphomehealth.org
X-WR-CALDESC:Events for UP Home Health &amp; Hospice
REFRESH-INTERVAL;VALUE=DURATION:PT1H
X-Robots-Tag:noindex
X-PUBLISHED-TTL:PT1H
BEGIN:VTIMEZONE
TZID:UTC
BEGIN:STANDARD
TZOFFSETFROM:+0000
TZOFFSETTO:+0000
TZNAME:UTC
DTSTART:20270101T000000
END:STANDARD
END:VTIMEZONE
BEGIN:VEVENT
DTSTART;TZID=UTC:20281103T110000
DTEND;TZID=UTC:20281103T120000
DTSTAMP:20260426T011136
CREATED:20251104T152915Z
LAST-MODIFIED:20251104T152915Z
UID:10067975-1856862000-1856865600@www.uphomehealth.org
SUMMARY:Gwinn Clubhouse- Free Wellness Clinic
DESCRIPTION:Gwinn Clubhouse \nFirst Friday of Every Month \n11:00 am -12:00 pm
URL:https://www.uphomehealth.org/event/gwinn-clubhouse-free-wellness-clinic/2028-11-03/
END:VEVENT
BEGIN:VEVENT
DTSTART;TZID=UTC:20281108T103000
DTEND;TZID=UTC:20281108T120000
DTSTAMP:20260426T011136
CREATED:20251104T153238Z
LAST-MODIFIED:20251104T153238Z
UID:10068096-1857292200-1857297600@www.uphomehealth.org
SUMMARY:Michigamme Township Hall- Free Wellness Clinic
DESCRIPTION:Michigamme Township Hall \nSecond Tuesday of Every Month \n10:30 am -12:00 pm
URL:https://www.uphomehealth.org/event/michigamme-township-hall-free-wellness-clinic/2028-11-08/
END:VEVENT
BEGIN:VEVENT
DTSTART;VALUE=DATE:20281111
DTEND;VALUE=DATE:20281112
DTSTAMP:20260426T011136
CREATED:20251104T205123Z
LAST-MODIFIED:20251104T205257Z
UID:10068774-1857513600-1857599999@www.uphomehealth.org
SUMMARY:Veterans Day
DESCRIPTION:November 11\, Private Veterans Day Ceremonies\nAs part of National Care at Home Month and our We Honor Veterans program\, we will be hosting private Veterans Day ceremonies to honor the brave men and women who have served our country that are in our Hospice Program. These intimate gatherings provide a meaningful opportunity to thank our veteran patients for their service and sacrifice\, offering personalized recognition and remembrance in the comfort of their own care setting.
URL:https://www.uphomehealth.org/event/national-care-at-home-month-veterans-day/2028-11-11/
END:VEVENT
BEGIN:VEVENT
DTSTART;TZID=UTC:20281115T113000
DTEND;TZID=UTC:20281115T123000
DTSTAMP:20260426T011136
CREATED:20251104T154155Z
LAST-MODIFIED:20251104T205431Z
UID:10068812-1857900600-1857904200@www.uphomehealth.org
SUMMARY:Champion Area- Free Wellness Clinic
DESCRIPTION:Champion Township Hall  \nThird Wednesday of Every Month \n11:30 am -12:30 pm \n**In conjunction with Ishpeming Senior Center Congregate Meal- Confirm with Ishpeming Senior Center (906) 485-5527**
URL:https://www.uphomehealth.org/event/champion-area-free-wellness-clinic/2028-11-15/
END:VEVENT
BEGIN:VEVENT
DTSTART;TZID=UTC:20281116T120000
DTEND;TZID=UTC:20281116T130000
DTSTAMP:20260426T011136
CREATED:20251104T154854Z
LAST-MODIFIED:20251104T154854Z
UID:10068696-1857988800-1857992400@www.uphomehealth.org
SUMMARY:Negaunee Senior Center- Free Wellness Clinic
DESCRIPTION:Negaunee Senior Center \nFirst and Third Thursday of Every Month \n12:00 pm -1:00 pm
URL:https://www.uphomehealth.org/event/negaunee-senior-center-free-wellness-clinic-2/2028-11-16/
END:VEVENT
BEGIN:VEVENT
DTSTART;TZID=UTC:20281117T110000
DTEND;TZID=UTC:20281117T120000
DTSTAMP:20260426T011136
CREATED:20251104T151243Z
LAST-MODIFIED:20251104T151243Z
UID:10067855-1858071600-1858075200@www.uphomehealth.org
SUMMARY:Ishpeming Senior Center- Free Wellness Clinic
DESCRIPTION:Ishpeming Senior Center \nThird Friday of Every Month \n11:00 am -12:00 pm
URL:https://www.uphomehealth.org/event/ishpeming-senior-center-free-wellness-clinic/2028-11-17/
END:VEVENT
BEGIN:VEVENT
DTSTART;TZID=UTC:20281123T113000
DTEND;TZID=UTC:20281123T123000
DTSTAMP:20260426T011136
CREATED:20251104T153634Z
LAST-MODIFIED:20251104T153854Z
UID:10068276-1858591800-1858595400@www.uphomehealth.org
SUMMARY:Republic Area- Free Wellness Clinic
DESCRIPTION:Bethany Lutheran Church\, Republic \nFourth Thursday of Every Month \n11:30 am -12:30 pm \n**In conjunction with Ishpeming Senior Center Congregate Meal- Confirm with Ishpeming Senior Center (906) 485-5527**
URL:https://www.uphomehealth.org/event/republic-area-free-wellness-clinic/2028-11-23/
END:VEVENT
BEGIN:VEVENT
DTSTART;TZID=UTC:20281124T110000
DTEND;TZID=UTC:20281124T120000
DTSTAMP:20260426T011136
CREATED:20251103T195651Z
LAST-MODIFIED:20251104T153035Z
UID:10067728-1858676400-1858680000@www.uphomehealth.org
SUMMARY:Marquette Senior Center- Free Wellness Clinic
DESCRIPTION:Marquette Senior Center \n11:00 am -12:00 pm
URL:https://www.uphomehealth.org/event/marquette-senior-center-clinic/2028-11-24/
LOCATION:Marquette Senior Center\, 300 W. Spring Street\, Marquette\, 49855\, United States
END:VEVENT
BEGIN:VEVENT
DTSTART;TZID=UTC:20281201T110000
DTEND;TZID=UTC:20281201T120000
DTSTAMP:20260426T011136
CREATED:20251104T152915Z
LAST-MODIFIED:20251104T152915Z
UID:10067976-1859281200-1859284800@www.uphomehealth.org
SUMMARY:Gwinn Clubhouse- Free Wellness Clinic
DESCRIPTION:Gwinn Clubhouse \nFirst Friday of Every Month \n11:00 am -12:00 pm
URL:https://www.uphomehealth.org/event/gwinn-clubhouse-free-wellness-clinic/2028-12-01/
END:VEVENT
BEGIN:VEVENT
DTSTART;TZID=UTC:20281207T110000
DTEND;TZID=UTC:20281207T120000
DTSTAMP:20260426T011136
CREATED:20251104T154455Z
LAST-MODIFIED:20251104T213536Z
UID:10068871-1859799600-1859803200@www.uphomehealth.org
SUMMARY:Negaunee Senior Center- Free Wellness Clinic
DESCRIPTION:Negaunee Senior Center \nFirst and Third Thursday of Every Month \n12:00 pm -1:00 pm
URL:https://www.uphomehealth.org/event/negaunee-senior-center-free-wellness-clinic/2028-12-07/
END:VEVENT
BEGIN:VEVENT
DTSTART;TZID=UTC:20281213T103000
DTEND;TZID=UTC:20281213T120000
DTSTAMP:20260426T011136
CREATED:20251104T153238Z
LAST-MODIFIED:20251104T153238Z
UID:10068097-1860316200-1860321600@www.uphomehealth.org
SUMMARY:Michigamme Township Hall- Free Wellness Clinic
DESCRIPTION:Michigamme Township Hall \nSecond Tuesday of Every Month \n10:30 am -12:00 pm
URL:https://www.uphomehealth.org/event/michigamme-township-hall-free-wellness-clinic/2028-12-13/
END:VEVENT
BEGIN:VEVENT
DTSTART;TZID=UTC:20281215T110000
DTEND;TZID=UTC:20281215T120000
DTSTAMP:20260426T011136
CREATED:20251104T151243Z
LAST-MODIFIED:20251104T151243Z
UID:10067856-1860490800-1860494400@www.uphomehealth.org
SUMMARY:Ishpeming Senior Center- Free Wellness Clinic
DESCRIPTION:Ishpeming Senior Center \nThird Friday of Every Month \n11:00 am -12:00 pm
URL:https://www.uphomehealth.org/event/ishpeming-senior-center-free-wellness-clinic/2028-12-15/
END:VEVENT
BEGIN:VEVENT
DTSTART;TZID=UTC:20281220T113000
DTEND;TZID=UTC:20281220T123000
DTSTAMP:20260426T011136
CREATED:20251104T154155Z
LAST-MODIFIED:20251104T205431Z
UID:10068813-1860924600-1860928200@www.uphomehealth.org
SUMMARY:Champion Area- Free Wellness Clinic
DESCRIPTION:Champion Township Hall  \nThird Wednesday of Every Month \n11:30 am -12:30 pm \n**In conjunction with Ishpeming Senior Center Congregate Meal- Confirm with Ishpeming Senior Center (906) 485-5527**
URL:https://www.uphomehealth.org/event/champion-area-free-wellness-clinic/2028-12-20/
END:VEVENT
BEGIN:VEVENT
DTSTART;TZID=UTC:20281221T120000
DTEND;TZID=UTC:20281221T130000
DTSTAMP:20260426T011136
CREATED:20251104T154854Z
LAST-MODIFIED:20251104T154854Z
UID:10068697-1861012800-1861016400@www.uphomehealth.org
SUMMARY:Negaunee Senior Center- Free Wellness Clinic
DESCRIPTION:Negaunee Senior Center \nFirst and Third Thursday of Every Month \n12:00 pm -1:00 pm
URL:https://www.uphomehealth.org/event/negaunee-senior-center-free-wellness-clinic-2/2028-12-21/
END:VEVENT
BEGIN:VEVENT
DTSTART;TZID=UTC:20281222T110000
DTEND;TZID=UTC:20281222T120000
DTSTAMP:20260426T011136
CREATED:20251103T195651Z
LAST-MODIFIED:20251104T153035Z
UID:10067729-1861095600-1861099200@www.uphomehealth.org
SUMMARY:Marquette Senior Center- Free Wellness Clinic
DESCRIPTION:Marquette Senior Center \n11:00 am -12:00 pm
URL:https://www.uphomehealth.org/event/marquette-senior-center-clinic/2028-12-22/
LOCATION:Marquette Senior Center\, 300 W. Spring Street\, Marquette\, 49855\, United States
END:VEVENT
BEGIN:VEVENT
DTSTART;TZID=UTC:20281228T113000
DTEND;TZID=UTC:20281228T123000
DTSTAMP:20260426T011136
CREATED:20251104T153634Z
LAST-MODIFIED:20251104T153854Z
UID:10068277-1861615800-1861619400@www.uphomehealth.org
SUMMARY:Republic Area- Free Wellness Clinic
DESCRIPTION:Bethany Lutheran Church\, Republic \nFourth Thursday of Every Month \n11:30 am -12:30 pm \n**In conjunction with Ishpeming Senior Center Congregate Meal- Confirm with Ishpeming Senior Center (906) 485-5527**
URL:https://www.uphomehealth.org/event/republic-area-free-wellness-clinic/2028-12-28/
END:VEVENT
BEGIN:VEVENT
DTSTART;TZID=UTC:20290104T110000
DTEND;TZID=UTC:20290104T120000
DTSTAMP:20260426T011137
CREATED:20251104T154455Z
LAST-MODIFIED:20251104T213536Z
UID:10068872-1862218800-1862222400@www.uphomehealth.org
SUMMARY:Negaunee Senior Center- Free Wellness Clinic
DESCRIPTION:Negaunee Senior Center \nFirst and Third Thursday of Every Month \n12:00 pm -1:00 pm
URL:https://www.uphomehealth.org/event/negaunee-senior-center-free-wellness-clinic/2029-01-04/
END:VEVENT
BEGIN:VEVENT
DTSTART;TZID=UTC:20290105T110000
DTEND;TZID=UTC:20290105T120000
DTSTAMP:20260426T011137
CREATED:20251104T152915Z
LAST-MODIFIED:20251104T152915Z
UID:10067977-1862305200-1862308800@www.uphomehealth.org
SUMMARY:Gwinn Clubhouse- Free Wellness Clinic
DESCRIPTION:Gwinn Clubhouse \nFirst Friday of Every Month \n11:00 am -12:00 pm
URL:https://www.uphomehealth.org/event/gwinn-clubhouse-free-wellness-clinic/2029-01-05/
END:VEVENT
BEGIN:VEVENT
DTSTART;TZID=UTC:20290110T103000
DTEND;TZID=UTC:20290110T120000
DTSTAMP:20260426T011137
CREATED:20251104T153238Z
LAST-MODIFIED:20251104T153238Z
UID:10068098-1862735400-1862740800@www.uphomehealth.org
SUMMARY:Michigamme Township Hall- Free Wellness Clinic
DESCRIPTION:Michigamme Township Hall \nSecond Tuesday of Every Month \n10:30 am -12:00 pm
URL:https://www.uphomehealth.org/event/michigamme-township-hall-free-wellness-clinic/2029-01-10/
END:VEVENT
BEGIN:VEVENT
DTSTART;TZID=UTC:20290117T113000
DTEND;TZID=UTC:20290117T123000
DTSTAMP:20260426T011137
CREATED:20251104T154155Z
LAST-MODIFIED:20251104T205431Z
UID:10068814-1863343800-1863347400@www.uphomehealth.org
SUMMARY:Champion Area- Free Wellness Clinic
DESCRIPTION:Champion Township Hall  \nThird Wednesday of Every Month \n11:30 am -12:30 pm \n**In conjunction with Ishpeming Senior Center Congregate Meal- Confirm with Ishpeming Senior Center (906) 485-5527**
URL:https://www.uphomehealth.org/event/champion-area-free-wellness-clinic/2029-01-17/
END:VEVENT
BEGIN:VEVENT
DTSTART;TZID=UTC:20290118T120000
DTEND;TZID=UTC:20290118T130000
DTSTAMP:20260426T011137
CREATED:20251104T154854Z
LAST-MODIFIED:20251104T154854Z
UID:10068698-1863432000-1863435600@www.uphomehealth.org
SUMMARY:Negaunee Senior Center- Free Wellness Clinic
DESCRIPTION:Negaunee Senior Center \nFirst and Third Thursday of Every Month \n12:00 pm -1:00 pm
URL:https://www.uphomehealth.org/event/negaunee-senior-center-free-wellness-clinic-2/2029-01-18/
END:VEVENT
BEGIN:VEVENT
DTSTART;TZID=UTC:20290119T110000
DTEND;TZID=UTC:20290119T120000
DTSTAMP:20260426T011137
CREATED:20251104T151243Z
LAST-MODIFIED:20251104T151243Z
UID:10067857-1863514800-1863518400@www.uphomehealth.org
SUMMARY:Ishpeming Senior Center- Free Wellness Clinic
DESCRIPTION:Ishpeming Senior Center \nThird Friday of Every Month \n11:00 am -12:00 pm
URL:https://www.uphomehealth.org/event/ishpeming-senior-center-free-wellness-clinic/2029-01-19/
END:VEVENT
BEGIN:VEVENT
DTSTART;TZID=UTC:20290125T113000
DTEND;TZID=UTC:20290125T123000
DTSTAMP:20260426T011137
CREATED:20251104T153634Z
LAST-MODIFIED:20251104T153854Z
UID:10068278-1864035000-1864038600@www.uphomehealth.org
SUMMARY:Republic Area- Free Wellness Clinic
DESCRIPTION:Bethany Lutheran Church\, Republic \nFourth Thursday of Every Month \n11:30 am -12:30 pm \n**In conjunction with Ishpeming Senior Center Congregate Meal- Confirm with Ishpeming Senior Center (906) 485-5527**
URL:https://www.uphomehealth.org/event/republic-area-free-wellness-clinic/2029-01-25/
END:VEVENT
BEGIN:VEVENT
DTSTART;TZID=UTC:20290126T110000
DTEND;TZID=UTC:20290126T120000
DTSTAMP:20260426T011137
CREATED:20251103T195651Z
LAST-MODIFIED:20251104T153035Z
UID:10067730-1864119600-1864123200@www.uphomehealth.org
SUMMARY:Marquette Senior Center- Free Wellness Clinic
DESCRIPTION:Marquette Senior Center \n11:00 am -12:00 pm
URL:https://www.uphomehealth.org/event/marquette-senior-center-clinic/2029-01-26/
LOCATION:Marquette Senior Center\, 300 W. Spring Street\, Marquette\, 49855\, United States
END:VEVENT
BEGIN:VEVENT
DTSTART;TZID=UTC:20290201T110000
DTEND;TZID=UTC:20290201T120000
DTSTAMP:20260426T011137
CREATED:20251104T154455Z
LAST-MODIFIED:20251104T213536Z
UID:10068873-1864638000-1864641600@www.uphomehealth.org
SUMMARY:Negaunee Senior Center- Free Wellness Clinic
DESCRIPTION:Negaunee Senior Center \nFirst and Third Thursday of Every Month \n12:00 pm -1:00 pm
URL:https://www.uphomehealth.org/event/negaunee-senior-center-free-wellness-clinic/2029-02-01/
END:VEVENT
BEGIN:VEVENT
DTSTART;TZID=UTC:20290202T110000
DTEND;TZID=UTC:20290202T120000
DTSTAMP:20260426T011137
CREATED:20251104T152915Z
LAST-MODIFIED:20251104T152915Z
UID:10067978-1864724400-1864728000@www.uphomehealth.org
SUMMARY:Gwinn Clubhouse- Free Wellness Clinic
DESCRIPTION:Gwinn Clubhouse \nFirst Friday of Every Month \n11:00 am -12:00 pm
URL:https://www.uphomehealth.org/event/gwinn-clubhouse-free-wellness-clinic/2029-02-02/
END:VEVENT
BEGIN:VEVENT
DTSTART;TZID=UTC:20290214T103000
DTEND;TZID=UTC:20290214T120000
DTSTAMP:20260426T011137
CREATED:20251104T153238Z
LAST-MODIFIED:20251104T153238Z
UID:10068099-1865759400-1865764800@www.uphomehealth.org
SUMMARY:Michigamme Township Hall- Free Wellness Clinic
DESCRIPTION:Michigamme Township Hall \nSecond Tuesday of Every Month \n10:30 am -12:00 pm
URL:https://www.uphomehealth.org/event/michigamme-township-hall-free-wellness-clinic/2029-02-14/
END:VEVENT
BEGIN:VEVENT
DTSTART;TZID=UTC:20290215T120000
DTEND;TZID=UTC:20290215T130000
DTSTAMP:20260426T011137
CREATED:20251104T154854Z
LAST-MODIFIED:20251104T154854Z
UID:10068699-1865851200-1865854800@www.uphomehealth.org
SUMMARY:Negaunee Senior Center- Free Wellness Clinic
DESCRIPTION:Negaunee Senior Center \nFirst and Third Thursday of Every Month \n12:00 pm -1:00 pm
URL:https://www.uphomehealth.org/event/negaunee-senior-center-free-wellness-clinic-2/2029-02-15/
END:VEVENT
BEGIN:VEVENT
DTSTART;TZID=UTC:20290216T110000
DTEND;TZID=UTC:20290216T120000
DTSTAMP:20260426T011137
CREATED:20251104T151243Z
LAST-MODIFIED:20251104T151243Z
UID:10067858-1865934000-1865937600@www.uphomehealth.org
SUMMARY:Ishpeming Senior Center- Free Wellness Clinic
DESCRIPTION:Ishpeming Senior Center \nThird Friday of Every Month \n11:00 am -12:00 pm
URL:https://www.uphomehealth.org/event/ishpeming-senior-center-free-wellness-clinic/2029-02-16/
END:VEVENT
BEGIN:VEVENT
DTSTART;TZID=UTC:20290221T113000
DTEND;TZID=UTC:20290221T123000
DTSTAMP:20260426T011137
CREATED:20251104T154155Z
LAST-MODIFIED:20251104T205431Z
UID:10068815-1866367800-1866371400@www.uphomehealth.org
SUMMARY:Champion Area- Free Wellness Clinic
DESCRIPTION:Champion Township Hall  \nThird Wednesday of Every Month \n11:30 am -12:30 pm \n**In conjunction with Ishpeming Senior Center Congregate Meal- Confirm with Ishpeming Senior Center (906) 485-5527**
URL:https://www.uphomehealth.org/event/champion-area-free-wellness-clinic/2029-02-21/
END:VEVENT
END:VCALENDAR