BEGIN:VCALENDAR
VERSION:2.0
PRODID:-//UP Home Health &amp; Hospice - ECPv6.15.20//NONSGML v1.0//EN
CALSCALE:GREGORIAN
METHOD:PUBLISH
X-WR-CALNAME:UP Home Health &amp; Hospice
X-ORIGINAL-URL:https://www.uphomehealth.org
X-WR-CALDESC:Events for UP Home Health &amp; Hospice
REFRESH-INTERVAL;VALUE=DURATION:PT1H
X-Robots-Tag:noindex
X-PUBLISHED-TTL:PT1H
BEGIN:VTIMEZONE
TZID:UTC
BEGIN:STANDARD
TZOFFSETFROM:+0000
TZOFFSETTO:+0000
TZNAME:UTC
DTSTART:20280101T000000
END:STANDARD
END:VTIMEZONE
BEGIN:VEVENT
DTSTART;TZID=UTC:20290427T110000
DTEND;TZID=UTC:20290427T120000
DTSTAMP:20260426T003330
CREATED:20251103T195651Z
LAST-MODIFIED:20251104T153035Z
UID:10067733-1871982000-1871985600@www.uphomehealth.org
SUMMARY:Marquette Senior Center- Free Wellness Clinic
DESCRIPTION:Marquette Senior Center \n11:00 am -12:00 pm
URL:https://www.uphomehealth.org/event/marquette-senior-center-clinic/2029-04-27/
LOCATION:Marquette Senior Center\, 300 W. Spring Street\, Marquette\, 49855\, United States
END:VEVENT
BEGIN:VEVENT
DTSTART;TZID=UTC:20290503T110000
DTEND;TZID=UTC:20290503T120000
DTSTAMP:20260426T003330
CREATED:20251104T154455Z
LAST-MODIFIED:20251104T213536Z
UID:10068876-1872500400-1872504000@www.uphomehealth.org
SUMMARY:Negaunee Senior Center- Free Wellness Clinic
DESCRIPTION:Negaunee Senior Center \nFirst and Third Thursday of Every Month \n12:00 pm -1:00 pm
URL:https://www.uphomehealth.org/event/negaunee-senior-center-free-wellness-clinic/2029-05-03/
END:VEVENT
BEGIN:VEVENT
DTSTART;TZID=UTC:20290504T110000
DTEND;TZID=UTC:20290504T120000
DTSTAMP:20260426T003330
CREATED:20251104T152915Z
LAST-MODIFIED:20251104T152915Z
UID:10067981-1872586800-1872590400@www.uphomehealth.org
SUMMARY:Gwinn Clubhouse- Free Wellness Clinic
DESCRIPTION:Gwinn Clubhouse \nFirst Friday of Every Month \n11:00 am -12:00 pm
URL:https://www.uphomehealth.org/event/gwinn-clubhouse-free-wellness-clinic/2029-05-04/
END:VEVENT
BEGIN:VEVENT
DTSTART;TZID=UTC:20290509T103000
DTEND;TZID=UTC:20290509T120000
DTSTAMP:20260426T003330
CREATED:20251104T153238Z
LAST-MODIFIED:20251104T153238Z
UID:10068102-1873017000-1873022400@www.uphomehealth.org
SUMMARY:Michigamme Township Hall- Free Wellness Clinic
DESCRIPTION:Michigamme Township Hall \nSecond Tuesday of Every Month \n10:30 am -12:00 pm
URL:https://www.uphomehealth.org/event/michigamme-township-hall-free-wellness-clinic/2029-05-09/
END:VEVENT
BEGIN:VEVENT
DTSTART;TZID=UTC:20290516T113000
DTEND;TZID=UTC:20290516T123000
DTSTAMP:20260426T003330
CREATED:20251104T154155Z
LAST-MODIFIED:20251104T205431Z
UID:10068818-1873625400-1873629000@www.uphomehealth.org
SUMMARY:Champion Area- Free Wellness Clinic
DESCRIPTION:Champion Township Hall  \nThird Wednesday of Every Month \n11:30 am -12:30 pm \n**In conjunction with Ishpeming Senior Center Congregate Meal- Confirm with Ishpeming Senior Center (906) 485-5527**
URL:https://www.uphomehealth.org/event/champion-area-free-wellness-clinic/2029-05-16/
END:VEVENT
BEGIN:VEVENT
DTSTART;TZID=UTC:20290517T120000
DTEND;TZID=UTC:20290517T130000
DTSTAMP:20260426T003330
CREATED:20251104T154854Z
LAST-MODIFIED:20251104T154854Z
UID:10068702-1873713600-1873717200@www.uphomehealth.org
SUMMARY:Negaunee Senior Center- Free Wellness Clinic
DESCRIPTION:Negaunee Senior Center \nFirst and Third Thursday of Every Month \n12:00 pm -1:00 pm
URL:https://www.uphomehealth.org/event/negaunee-senior-center-free-wellness-clinic-2/2029-05-17/
END:VEVENT
BEGIN:VEVENT
DTSTART;TZID=UTC:20290518T110000
DTEND;TZID=UTC:20290518T120000
DTSTAMP:20260426T003330
CREATED:20251104T151243Z
LAST-MODIFIED:20251104T151243Z
UID:10067861-1873796400-1873800000@www.uphomehealth.org
SUMMARY:Ishpeming Senior Center- Free Wellness Clinic
DESCRIPTION:Ishpeming Senior Center \nThird Friday of Every Month \n11:00 am -12:00 pm
URL:https://www.uphomehealth.org/event/ishpeming-senior-center-free-wellness-clinic/2029-05-18/
END:VEVENT
BEGIN:VEVENT
DTSTART;TZID=UTC:20290524T113000
DTEND;TZID=UTC:20290524T123000
DTSTAMP:20260426T003330
CREATED:20251104T153634Z
LAST-MODIFIED:20251104T153854Z
UID:10068282-1874316600-1874320200@www.uphomehealth.org
SUMMARY:Republic Area- Free Wellness Clinic
DESCRIPTION:Bethany Lutheran Church\, Republic \nFourth Thursday of Every Month \n11:30 am -12:30 pm \n**In conjunction with Ishpeming Senior Center Congregate Meal- Confirm with Ishpeming Senior Center (906) 485-5527**
URL:https://www.uphomehealth.org/event/republic-area-free-wellness-clinic/2029-05-24/
END:VEVENT
BEGIN:VEVENT
DTSTART;TZID=UTC:20290525T110000
DTEND;TZID=UTC:20290525T120000
DTSTAMP:20260426T003330
CREATED:20251103T195651Z
LAST-MODIFIED:20251104T153035Z
UID:10067734-1874401200-1874404800@www.uphomehealth.org
SUMMARY:Marquette Senior Center- Free Wellness Clinic
DESCRIPTION:Marquette Senior Center \n11:00 am -12:00 pm
URL:https://www.uphomehealth.org/event/marquette-senior-center-clinic/2029-05-25/
LOCATION:Marquette Senior Center\, 300 W. Spring Street\, Marquette\, 49855\, United States
END:VEVENT
BEGIN:VEVENT
DTSTART;TZID=UTC:20290601T110000
DTEND;TZID=UTC:20290601T120000
DTSTAMP:20260426T003330
CREATED:20251104T152915Z
LAST-MODIFIED:20251104T152915Z
UID:10067982-1875006000-1875009600@www.uphomehealth.org
SUMMARY:Gwinn Clubhouse- Free Wellness Clinic
DESCRIPTION:Gwinn Clubhouse \nFirst Friday of Every Month \n11:00 am -12:00 pm
URL:https://www.uphomehealth.org/event/gwinn-clubhouse-free-wellness-clinic/2029-06-01/
END:VEVENT
BEGIN:VEVENT
DTSTART;TZID=UTC:20290607T110000
DTEND;TZID=UTC:20290607T120000
DTSTAMP:20260426T003330
CREATED:20251104T154455Z
LAST-MODIFIED:20251104T213536Z
UID:10068877-1875524400-1875528000@www.uphomehealth.org
SUMMARY:Negaunee Senior Center- Free Wellness Clinic
DESCRIPTION:Negaunee Senior Center \nFirst and Third Thursday of Every Month \n12:00 pm -1:00 pm
URL:https://www.uphomehealth.org/event/negaunee-senior-center-free-wellness-clinic/2029-06-07/
END:VEVENT
BEGIN:VEVENT
DTSTART;TZID=UTC:20290613T103000
DTEND;TZID=UTC:20290613T120000
DTSTAMP:20260426T003330
CREATED:20251104T153238Z
LAST-MODIFIED:20251104T153238Z
UID:10068103-1876041000-1876046400@www.uphomehealth.org
SUMMARY:Michigamme Township Hall- Free Wellness Clinic
DESCRIPTION:Michigamme Township Hall \nSecond Tuesday of Every Month \n10:30 am -12:00 pm
URL:https://www.uphomehealth.org/event/michigamme-township-hall-free-wellness-clinic/2029-06-13/
END:VEVENT
BEGIN:VEVENT
DTSTART;TZID=UTC:20290615T110000
DTEND;TZID=UTC:20290615T120000
DTSTAMP:20260426T003330
CREATED:20251104T151243Z
LAST-MODIFIED:20251104T151243Z
UID:10067862-1876215600-1876219200@www.uphomehealth.org
SUMMARY:Ishpeming Senior Center- Free Wellness Clinic
DESCRIPTION:Ishpeming Senior Center \nThird Friday of Every Month \n11:00 am -12:00 pm
URL:https://www.uphomehealth.org/event/ishpeming-senior-center-free-wellness-clinic/2029-06-15/
END:VEVENT
BEGIN:VEVENT
DTSTART;TZID=UTC:20290620T113000
DTEND;TZID=UTC:20290620T123000
DTSTAMP:20260426T003330
CREATED:20251104T154155Z
LAST-MODIFIED:20251104T205431Z
UID:10068819-1876649400-1876653000@www.uphomehealth.org
SUMMARY:Champion Area- Free Wellness Clinic
DESCRIPTION:Champion Township Hall  \nThird Wednesday of Every Month \n11:30 am -12:30 pm \n**In conjunction with Ishpeming Senior Center Congregate Meal- Confirm with Ishpeming Senior Center (906) 485-5527**
URL:https://www.uphomehealth.org/event/champion-area-free-wellness-clinic/2029-06-20/
END:VEVENT
BEGIN:VEVENT
DTSTART;TZID=UTC:20290621T120000
DTEND;TZID=UTC:20290621T130000
DTSTAMP:20260426T003330
CREATED:20251104T154854Z
LAST-MODIFIED:20251104T154854Z
UID:10068703-1876737600-1876741200@www.uphomehealth.org
SUMMARY:Negaunee Senior Center- Free Wellness Clinic
DESCRIPTION:Negaunee Senior Center \nFirst and Third Thursday of Every Month \n12:00 pm -1:00 pm
URL:https://www.uphomehealth.org/event/negaunee-senior-center-free-wellness-clinic-2/2029-06-21/
END:VEVENT
BEGIN:VEVENT
DTSTART;TZID=UTC:20290622T110000
DTEND;TZID=UTC:20290622T120000
DTSTAMP:20260426T003330
CREATED:20251103T195651Z
LAST-MODIFIED:20251104T153035Z
UID:10067735-1876820400-1876824000@www.uphomehealth.org
SUMMARY:Marquette Senior Center- Free Wellness Clinic
DESCRIPTION:Marquette Senior Center \n11:00 am -12:00 pm
URL:https://www.uphomehealth.org/event/marquette-senior-center-clinic/2029-06-22/
LOCATION:Marquette Senior Center\, 300 W. Spring Street\, Marquette\, 49855\, United States
END:VEVENT
BEGIN:VEVENT
DTSTART;TZID=UTC:20290628T113000
DTEND;TZID=UTC:20290628T123000
DTSTAMP:20260426T003330
CREATED:20251104T153634Z
LAST-MODIFIED:20251104T153854Z
UID:10068283-1877340600-1877344200@www.uphomehealth.org
SUMMARY:Republic Area- Free Wellness Clinic
DESCRIPTION:Bethany Lutheran Church\, Republic \nFourth Thursday of Every Month \n11:30 am -12:30 pm \n**In conjunction with Ishpeming Senior Center Congregate Meal- Confirm with Ishpeming Senior Center (906) 485-5527**
URL:https://www.uphomehealth.org/event/republic-area-free-wellness-clinic/2029-06-28/
END:VEVENT
BEGIN:VEVENT
DTSTART;TZID=UTC:20290705T110000
DTEND;TZID=UTC:20290705T120000
DTSTAMP:20260426T003330
CREATED:20251104T154455Z
LAST-MODIFIED:20251104T213536Z
UID:10068878-1877943600-1877947200@www.uphomehealth.org
SUMMARY:Negaunee Senior Center- Free Wellness Clinic
DESCRIPTION:Negaunee Senior Center \nFirst and Third Thursday of Every Month \n12:00 pm -1:00 pm
URL:https://www.uphomehealth.org/event/negaunee-senior-center-free-wellness-clinic/2029-07-05/
END:VEVENT
BEGIN:VEVENT
DTSTART;TZID=UTC:20290706T110000
DTEND;TZID=UTC:20290706T120000
DTSTAMP:20260426T003330
CREATED:20251104T152915Z
LAST-MODIFIED:20251104T152915Z
UID:10067983-1878030000-1878033600@www.uphomehealth.org
SUMMARY:Gwinn Clubhouse- Free Wellness Clinic
DESCRIPTION:Gwinn Clubhouse \nFirst Friday of Every Month \n11:00 am -12:00 pm
URL:https://www.uphomehealth.org/event/gwinn-clubhouse-free-wellness-clinic/2029-07-06/
END:VEVENT
BEGIN:VEVENT
DTSTART;TZID=UTC:20290711T103000
DTEND;TZID=UTC:20290711T120000
DTSTAMP:20260426T003330
CREATED:20251104T153238Z
LAST-MODIFIED:20251104T153238Z
UID:10068104-1878460200-1878465600@www.uphomehealth.org
SUMMARY:Michigamme Township Hall- Free Wellness Clinic
DESCRIPTION:Michigamme Township Hall \nSecond Tuesday of Every Month \n10:30 am -12:00 pm
URL:https://www.uphomehealth.org/event/michigamme-township-hall-free-wellness-clinic/2029-07-11/
END:VEVENT
BEGIN:VEVENT
DTSTART;TZID=UTC:20290718T113000
DTEND;TZID=UTC:20290718T123000
DTSTAMP:20260426T003330
CREATED:20251104T154155Z
LAST-MODIFIED:20251104T205431Z
UID:10068820-1879068600-1879072200@www.uphomehealth.org
SUMMARY:Champion Area- Free Wellness Clinic
DESCRIPTION:Champion Township Hall  \nThird Wednesday of Every Month \n11:30 am -12:30 pm \n**In conjunction with Ishpeming Senior Center Congregate Meal- Confirm with Ishpeming Senior Center (906) 485-5527**
URL:https://www.uphomehealth.org/event/champion-area-free-wellness-clinic/2029-07-18/
END:VEVENT
BEGIN:VEVENT
DTSTART;TZID=UTC:20290719T120000
DTEND;TZID=UTC:20290719T130000
DTSTAMP:20260426T003330
CREATED:20251104T154854Z
LAST-MODIFIED:20251104T154854Z
UID:10068704-1879156800-1879160400@www.uphomehealth.org
SUMMARY:Negaunee Senior Center- Free Wellness Clinic
DESCRIPTION:Negaunee Senior Center \nFirst and Third Thursday of Every Month \n12:00 pm -1:00 pm
URL:https://www.uphomehealth.org/event/negaunee-senior-center-free-wellness-clinic-2/2029-07-19/
END:VEVENT
BEGIN:VEVENT
DTSTART;TZID=UTC:20290720T110000
DTEND;TZID=UTC:20290720T120000
DTSTAMP:20260426T003330
CREATED:20251104T151243Z
LAST-MODIFIED:20251104T151243Z
UID:10067863-1879239600-1879243200@www.uphomehealth.org
SUMMARY:Ishpeming Senior Center- Free Wellness Clinic
DESCRIPTION:Ishpeming Senior Center \nThird Friday of Every Month \n11:00 am -12:00 pm
URL:https://www.uphomehealth.org/event/ishpeming-senior-center-free-wellness-clinic/2029-07-20/
END:VEVENT
BEGIN:VEVENT
DTSTART;TZID=UTC:20290726T113000
DTEND;TZID=UTC:20290726T123000
DTSTAMP:20260426T003330
CREATED:20251104T153634Z
LAST-MODIFIED:20251104T153854Z
UID:10068284-1879759800-1879763400@www.uphomehealth.org
SUMMARY:Republic Area- Free Wellness Clinic
DESCRIPTION:Bethany Lutheran Church\, Republic \nFourth Thursday of Every Month \n11:30 am -12:30 pm \n**In conjunction with Ishpeming Senior Center Congregate Meal- Confirm with Ishpeming Senior Center (906) 485-5527**
URL:https://www.uphomehealth.org/event/republic-area-free-wellness-clinic/2029-07-26/
END:VEVENT
BEGIN:VEVENT
DTSTART;TZID=UTC:20290727T110000
DTEND;TZID=UTC:20290727T120000
DTSTAMP:20260426T003330
CREATED:20251103T195651Z
LAST-MODIFIED:20251104T153035Z
UID:10067736-1879844400-1879848000@www.uphomehealth.org
SUMMARY:Marquette Senior Center- Free Wellness Clinic
DESCRIPTION:Marquette Senior Center \n11:00 am -12:00 pm
URL:https://www.uphomehealth.org/event/marquette-senior-center-clinic/2029-07-27/
LOCATION:Marquette Senior Center\, 300 W. Spring Street\, Marquette\, 49855\, United States
END:VEVENT
BEGIN:VEVENT
DTSTART;TZID=UTC:20290802T110000
DTEND;TZID=UTC:20290802T120000
DTSTAMP:20260426T003330
CREATED:20251104T154455Z
LAST-MODIFIED:20251104T213536Z
UID:10068879-1880362800-1880366400@www.uphomehealth.org
SUMMARY:Negaunee Senior Center- Free Wellness Clinic
DESCRIPTION:Negaunee Senior Center \nFirst and Third Thursday of Every Month \n12:00 pm -1:00 pm
URL:https://www.uphomehealth.org/event/negaunee-senior-center-free-wellness-clinic/2029-08-02/
END:VEVENT
BEGIN:VEVENT
DTSTART;TZID=UTC:20290803T110000
DTEND;TZID=UTC:20290803T120000
DTSTAMP:20260426T003330
CREATED:20251104T152915Z
LAST-MODIFIED:20251104T152915Z
UID:10067984-1880449200-1880452800@www.uphomehealth.org
SUMMARY:Gwinn Clubhouse- Free Wellness Clinic
DESCRIPTION:Gwinn Clubhouse \nFirst Friday of Every Month \n11:00 am -12:00 pm
URL:https://www.uphomehealth.org/event/gwinn-clubhouse-free-wellness-clinic/2029-08-03/
END:VEVENT
BEGIN:VEVENT
DTSTART;TZID=UTC:20290808T103000
DTEND;TZID=UTC:20290808T120000
DTSTAMP:20260426T003330
CREATED:20251104T153238Z
LAST-MODIFIED:20251104T153238Z
UID:10068105-1880879400-1880884800@www.uphomehealth.org
SUMMARY:Michigamme Township Hall- Free Wellness Clinic
DESCRIPTION:Michigamme Township Hall \nSecond Tuesday of Every Month \n10:30 am -12:00 pm
URL:https://www.uphomehealth.org/event/michigamme-township-hall-free-wellness-clinic/2029-08-08/
END:VEVENT
BEGIN:VEVENT
DTSTART;TZID=UTC:20290815T113000
DTEND;TZID=UTC:20290815T123000
DTSTAMP:20260426T003330
CREATED:20251104T154155Z
LAST-MODIFIED:20251104T205431Z
UID:10068821-1881487800-1881491400@www.uphomehealth.org
SUMMARY:Champion Area- Free Wellness Clinic
DESCRIPTION:Champion Township Hall  \nThird Wednesday of Every Month \n11:30 am -12:30 pm \n**In conjunction with Ishpeming Senior Center Congregate Meal- Confirm with Ishpeming Senior Center (906) 485-5527**
URL:https://www.uphomehealth.org/event/champion-area-free-wellness-clinic/2029-08-15/
END:VEVENT
BEGIN:VEVENT
DTSTART;TZID=UTC:20290816T120000
DTEND;TZID=UTC:20290816T130000
DTSTAMP:20260426T003330
CREATED:20251104T154854Z
LAST-MODIFIED:20251104T154854Z
UID:10068705-1881576000-1881579600@www.uphomehealth.org
SUMMARY:Negaunee Senior Center- Free Wellness Clinic
DESCRIPTION:Negaunee Senior Center \nFirst and Third Thursday of Every Month \n12:00 pm -1:00 pm
URL:https://www.uphomehealth.org/event/negaunee-senior-center-free-wellness-clinic-2/2029-08-16/
END:VEVENT
END:VCALENDAR