BEGIN:VCALENDAR
VERSION:2.0
PRODID:-//UP Home Health &amp; Hospice - ECPv6.15.20//NONSGML v1.0//EN
CALSCALE:GREGORIAN
METHOD:PUBLISH
X-ORIGINAL-URL:https://www.uphomehealth.org
X-WR-CALDESC:Events for UP Home Health &amp; Hospice
REFRESH-INTERVAL;VALUE=DURATION:PT1H
X-Robots-Tag:noindex
X-PUBLISHED-TTL:PT1H
BEGIN:VTIMEZONE
TZID:UTC
BEGIN:STANDARD
TZOFFSETFROM:+0000
TZOFFSETTO:+0000
TZNAME:UTC
DTSTART:20270101T000000
END:STANDARD
END:VTIMEZONE
BEGIN:VEVENT
DTSTART;TZID=UTC:20280112T103000
DTEND;TZID=UTC:20280112T120000
DTSTAMP:20260425T133531
CREATED:20251104T153238Z
LAST-MODIFIED:20251104T153238Z
UID:10068086-1831285800-1831291200@www.uphomehealth.org
SUMMARY:Michigamme Township Hall- Free Wellness Clinic
DESCRIPTION:Michigamme Township Hall \nSecond Tuesday of Every Month \n10:30 am -12:00 pm
URL:https://www.uphomehealth.org/event/michigamme-township-hall-free-wellness-clinic/2028-01-12/
END:VEVENT
BEGIN:VEVENT
DTSTART;TZID=UTC:20280119T113000
DTEND;TZID=UTC:20280119T123000
DTSTAMP:20260425T133531
CREATED:20251104T154155Z
LAST-MODIFIED:20251104T205431Z
UID:10068802-1831894200-1831897800@www.uphomehealth.org
SUMMARY:Champion Area- Free Wellness Clinic
DESCRIPTION:Champion Township Hall  \nThird Wednesday of Every Month \n11:30 am -12:30 pm \n**In conjunction with Ishpeming Senior Center Congregate Meal- Confirm with Ishpeming Senior Center (906) 485-5527**
URL:https://www.uphomehealth.org/event/champion-area-free-wellness-clinic/2028-01-19/
END:VEVENT
BEGIN:VEVENT
DTSTART;TZID=UTC:20280120T120000
DTEND;TZID=UTC:20280120T130000
DTSTAMP:20260425T133531
CREATED:20251104T154854Z
LAST-MODIFIED:20251104T154854Z
UID:10068686-1831982400-1831986000@www.uphomehealth.org
SUMMARY:Negaunee Senior Center- Free Wellness Clinic
DESCRIPTION:Negaunee Senior Center \nFirst and Third Thursday of Every Month \n12:00 pm -1:00 pm
URL:https://www.uphomehealth.org/event/negaunee-senior-center-free-wellness-clinic-2/2028-01-20/
END:VEVENT
BEGIN:VEVENT
DTSTART;TZID=UTC:20280121T110000
DTEND;TZID=UTC:20280121T120000
DTSTAMP:20260425T133531
CREATED:20251104T151243Z
LAST-MODIFIED:20251104T151243Z
UID:10067845-1832065200-1832068800@www.uphomehealth.org
SUMMARY:Ishpeming Senior Center- Free Wellness Clinic
DESCRIPTION:Ishpeming Senior Center \nThird Friday of Every Month \n11:00 am -12:00 pm
URL:https://www.uphomehealth.org/event/ishpeming-senior-center-free-wellness-clinic/2028-01-21/
END:VEVENT
BEGIN:VEVENT
DTSTART;TZID=UTC:20280127T113000
DTEND;TZID=UTC:20280127T123000
DTSTAMP:20260425T133531
CREATED:20251104T153634Z
LAST-MODIFIED:20251104T153854Z
UID:10068266-1832585400-1832589000@www.uphomehealth.org
SUMMARY:Republic Area- Free Wellness Clinic
DESCRIPTION:Bethany Lutheran Church\, Republic \nFourth Thursday of Every Month \n11:30 am -12:30 pm \n**In conjunction with Ishpeming Senior Center Congregate Meal- Confirm with Ishpeming Senior Center (906) 485-5527**
URL:https://www.uphomehealth.org/event/republic-area-free-wellness-clinic/2028-01-27/
END:VEVENT
BEGIN:VEVENT
DTSTART;TZID=UTC:20280128T110000
DTEND;TZID=UTC:20280128T120000
DTSTAMP:20260425T133531
CREATED:20251103T195651Z
LAST-MODIFIED:20251104T153035Z
UID:10067718-1832670000-1832673600@www.uphomehealth.org
SUMMARY:Marquette Senior Center- Free Wellness Clinic
DESCRIPTION:Marquette Senior Center \n11:00 am -12:00 pm
URL:https://www.uphomehealth.org/event/marquette-senior-center-clinic/2028-01-28/
LOCATION:Marquette Senior Center\, 300 W. Spring Street\, Marquette\, 49855\, United States
END:VEVENT
BEGIN:VEVENT
DTSTART;TZID=UTC:20280203T110000
DTEND;TZID=UTC:20280203T120000
DTSTAMP:20260425T133531
CREATED:20251104T154455Z
LAST-MODIFIED:20251104T213536Z
UID:10068863-1833188400-1833192000@www.uphomehealth.org
SUMMARY:Negaunee Senior Center- Free Wellness Clinic
DESCRIPTION:Negaunee Senior Center \nFirst and Third Thursday of Every Month \n12:00 pm -1:00 pm
URL:https://www.uphomehealth.org/event/negaunee-senior-center-free-wellness-clinic/2028-02-03/
END:VEVENT
BEGIN:VEVENT
DTSTART;TZID=UTC:20280204T110000
DTEND;TZID=UTC:20280204T120000
DTSTAMP:20260425T133531
CREATED:20251104T152915Z
LAST-MODIFIED:20251104T152915Z
UID:10067966-1833274800-1833278400@www.uphomehealth.org
SUMMARY:Gwinn Clubhouse- Free Wellness Clinic
DESCRIPTION:Gwinn Clubhouse \nFirst Friday of Every Month \n11:00 am -12:00 pm
URL:https://www.uphomehealth.org/event/gwinn-clubhouse-free-wellness-clinic/2028-02-04/
END:VEVENT
BEGIN:VEVENT
DTSTART;TZID=UTC:20280209T103000
DTEND;TZID=UTC:20280209T120000
DTSTAMP:20260425T133531
CREATED:20251104T153238Z
LAST-MODIFIED:20251104T153238Z
UID:10068087-1833705000-1833710400@www.uphomehealth.org
SUMMARY:Michigamme Township Hall- Free Wellness Clinic
DESCRIPTION:Michigamme Township Hall \nSecond Tuesday of Every Month \n10:30 am -12:00 pm
URL:https://www.uphomehealth.org/event/michigamme-township-hall-free-wellness-clinic/2028-02-09/
END:VEVENT
BEGIN:VEVENT
DTSTART;TZID=UTC:20280216T113000
DTEND;TZID=UTC:20280216T123000
DTSTAMP:20260425T133531
CREATED:20251104T154155Z
LAST-MODIFIED:20251104T205431Z
UID:10068803-1834313400-1834317000@www.uphomehealth.org
SUMMARY:Champion Area- Free Wellness Clinic
DESCRIPTION:Champion Township Hall  \nThird Wednesday of Every Month \n11:30 am -12:30 pm \n**In conjunction with Ishpeming Senior Center Congregate Meal- Confirm with Ishpeming Senior Center (906) 485-5527**
URL:https://www.uphomehealth.org/event/champion-area-free-wellness-clinic/2028-02-16/
END:VEVENT
BEGIN:VEVENT
DTSTART;TZID=UTC:20280217T120000
DTEND;TZID=UTC:20280217T130000
DTSTAMP:20260425T133531
CREATED:20251104T154854Z
LAST-MODIFIED:20251104T154854Z
UID:10068687-1834401600-1834405200@www.uphomehealth.org
SUMMARY:Negaunee Senior Center- Free Wellness Clinic
DESCRIPTION:Negaunee Senior Center \nFirst and Third Thursday of Every Month \n12:00 pm -1:00 pm
URL:https://www.uphomehealth.org/event/negaunee-senior-center-free-wellness-clinic-2/2028-02-17/
END:VEVENT
BEGIN:VEVENT
DTSTART;TZID=UTC:20280218T110000
DTEND;TZID=UTC:20280218T120000
DTSTAMP:20260425T133531
CREATED:20251104T151243Z
LAST-MODIFIED:20251104T151243Z
UID:10067846-1834484400-1834488000@www.uphomehealth.org
SUMMARY:Ishpeming Senior Center- Free Wellness Clinic
DESCRIPTION:Ishpeming Senior Center \nThird Friday of Every Month \n11:00 am -12:00 pm
URL:https://www.uphomehealth.org/event/ishpeming-senior-center-free-wellness-clinic/2028-02-18/
END:VEVENT
BEGIN:VEVENT
DTSTART;TZID=UTC:20280224T113000
DTEND;TZID=UTC:20280224T123000
DTSTAMP:20260425T133531
CREATED:20251104T153634Z
LAST-MODIFIED:20251104T153854Z
UID:10068267-1835004600-1835008200@www.uphomehealth.org
SUMMARY:Republic Area- Free Wellness Clinic
DESCRIPTION:Bethany Lutheran Church\, Republic \nFourth Thursday of Every Month \n11:30 am -12:30 pm \n**In conjunction with Ishpeming Senior Center Congregate Meal- Confirm with Ishpeming Senior Center (906) 485-5527**
URL:https://www.uphomehealth.org/event/republic-area-free-wellness-clinic/2028-02-24/
END:VEVENT
BEGIN:VEVENT
DTSTART;TZID=UTC:20280225T110000
DTEND;TZID=UTC:20280225T120000
DTSTAMP:20260425T133531
CREATED:20251103T195651Z
LAST-MODIFIED:20251104T153035Z
UID:10067719-1835089200-1835092800@www.uphomehealth.org
SUMMARY:Marquette Senior Center- Free Wellness Clinic
DESCRIPTION:Marquette Senior Center \n11:00 am -12:00 pm
URL:https://www.uphomehealth.org/event/marquette-senior-center-clinic/2028-02-25/
LOCATION:Marquette Senior Center\, 300 W. Spring Street\, Marquette\, 49855\, United States
END:VEVENT
BEGIN:VEVENT
DTSTART;TZID=UTC:20280302T110000
DTEND;TZID=UTC:20280302T120000
DTSTAMP:20260425T133531
CREATED:20251104T154455Z
LAST-MODIFIED:20251104T213536Z
UID:10068864-1835607600-1835611200@www.uphomehealth.org
SUMMARY:Negaunee Senior Center- Free Wellness Clinic
DESCRIPTION:Negaunee Senior Center \nFirst and Third Thursday of Every Month \n12:00 pm -1:00 pm
URL:https://www.uphomehealth.org/event/negaunee-senior-center-free-wellness-clinic/2028-03-02/
END:VEVENT
BEGIN:VEVENT
DTSTART;TZID=UTC:20280303T110000
DTEND;TZID=UTC:20280303T120000
DTSTAMP:20260425T133531
CREATED:20251104T152915Z
LAST-MODIFIED:20251104T152915Z
UID:10067967-1835694000-1835697600@www.uphomehealth.org
SUMMARY:Gwinn Clubhouse- Free Wellness Clinic
DESCRIPTION:Gwinn Clubhouse \nFirst Friday of Every Month \n11:00 am -12:00 pm
URL:https://www.uphomehealth.org/event/gwinn-clubhouse-free-wellness-clinic/2028-03-03/
END:VEVENT
BEGIN:VEVENT
DTSTART;TZID=UTC:20280308T103000
DTEND;TZID=UTC:20280308T120000
DTSTAMP:20260425T133531
CREATED:20251104T153238Z
LAST-MODIFIED:20251104T153238Z
UID:10068088-1836124200-1836129600@www.uphomehealth.org
SUMMARY:Michigamme Township Hall- Free Wellness Clinic
DESCRIPTION:Michigamme Township Hall \nSecond Tuesday of Every Month \n10:30 am -12:00 pm
URL:https://www.uphomehealth.org/event/michigamme-township-hall-free-wellness-clinic/2028-03-08/
END:VEVENT
BEGIN:VEVENT
DTSTART;TZID=UTC:20280315T113000
DTEND;TZID=UTC:20280315T123000
DTSTAMP:20260425T133531
CREATED:20251104T154155Z
LAST-MODIFIED:20251104T205431Z
UID:10068804-1836732600-1836736200@www.uphomehealth.org
SUMMARY:Champion Area- Free Wellness Clinic
DESCRIPTION:Champion Township Hall  \nThird Wednesday of Every Month \n11:30 am -12:30 pm \n**In conjunction with Ishpeming Senior Center Congregate Meal- Confirm with Ishpeming Senior Center (906) 485-5527**
URL:https://www.uphomehealth.org/event/champion-area-free-wellness-clinic/2028-03-15/
END:VEVENT
BEGIN:VEVENT
DTSTART;TZID=UTC:20280316T120000
DTEND;TZID=UTC:20280316T130000
DTSTAMP:20260425T133531
CREATED:20251104T154854Z
LAST-MODIFIED:20251104T154854Z
UID:10068688-1836820800-1836824400@www.uphomehealth.org
SUMMARY:Negaunee Senior Center- Free Wellness Clinic
DESCRIPTION:Negaunee Senior Center \nFirst and Third Thursday of Every Month \n12:00 pm -1:00 pm
URL:https://www.uphomehealth.org/event/negaunee-senior-center-free-wellness-clinic-2/2028-03-16/
END:VEVENT
BEGIN:VEVENT
DTSTART;TZID=UTC:20280317T110000
DTEND;TZID=UTC:20280317T120000
DTSTAMP:20260425T133531
CREATED:20251104T151243Z
LAST-MODIFIED:20251104T151243Z
UID:10067847-1836903600-1836907200@www.uphomehealth.org
SUMMARY:Ishpeming Senior Center- Free Wellness Clinic
DESCRIPTION:Ishpeming Senior Center \nThird Friday of Every Month \n11:00 am -12:00 pm
URL:https://www.uphomehealth.org/event/ishpeming-senior-center-free-wellness-clinic/2028-03-17/
END:VEVENT
BEGIN:VEVENT
DTSTART;TZID=UTC:20280323T113000
DTEND;TZID=UTC:20280323T123000
DTSTAMP:20260425T133531
CREATED:20251104T153634Z
LAST-MODIFIED:20251104T153854Z
UID:10068268-1837423800-1837427400@www.uphomehealth.org
SUMMARY:Republic Area- Free Wellness Clinic
DESCRIPTION:Bethany Lutheran Church\, Republic \nFourth Thursday of Every Month \n11:30 am -12:30 pm \n**In conjunction with Ishpeming Senior Center Congregate Meal- Confirm with Ishpeming Senior Center (906) 485-5527**
URL:https://www.uphomehealth.org/event/republic-area-free-wellness-clinic/2028-03-23/
END:VEVENT
BEGIN:VEVENT
DTSTART;TZID=UTC:20280324T110000
DTEND;TZID=UTC:20280324T120000
DTSTAMP:20260425T133531
CREATED:20251103T195651Z
LAST-MODIFIED:20251104T153035Z
UID:10067720-1837508400-1837512000@www.uphomehealth.org
SUMMARY:Marquette Senior Center- Free Wellness Clinic
DESCRIPTION:Marquette Senior Center \n11:00 am -12:00 pm
URL:https://www.uphomehealth.org/event/marquette-senior-center-clinic/2028-03-24/
LOCATION:Marquette Senior Center\, 300 W. Spring Street\, Marquette\, 49855\, United States
END:VEVENT
BEGIN:VEVENT
DTSTART;TZID=UTC:20280406T110000
DTEND;TZID=UTC:20280406T120000
DTSTAMP:20260425T133531
CREATED:20251104T154455Z
LAST-MODIFIED:20251104T213536Z
UID:10068569-1838631600-1838635200@www.uphomehealth.org
SUMMARY:Negaunee Senior Center- Free Wellness Clinic
DESCRIPTION:Negaunee Senior Center \nFirst and Third Thursday of Every Month \n12:00 pm -1:00 pm
URL:https://www.uphomehealth.org/event/negaunee-senior-center-free-wellness-clinic/2028-04-06/
END:VEVENT
BEGIN:VEVENT
DTSTART;TZID=UTC:20280407T110000
DTEND;TZID=UTC:20280407T120000
DTSTAMP:20260425T133531
CREATED:20251104T152915Z
LAST-MODIFIED:20251104T152915Z
UID:10067968-1838718000-1838721600@www.uphomehealth.org
SUMMARY:Gwinn Clubhouse- Free Wellness Clinic
DESCRIPTION:Gwinn Clubhouse \nFirst Friday of Every Month \n11:00 am -12:00 pm
URL:https://www.uphomehealth.org/event/gwinn-clubhouse-free-wellness-clinic/2028-04-07/
END:VEVENT
BEGIN:VEVENT
DTSTART;TZID=UTC:20280412T103000
DTEND;TZID=UTC:20280412T120000
DTSTAMP:20260425T133531
CREATED:20251104T153238Z
LAST-MODIFIED:20251104T153238Z
UID:10068089-1839148200-1839153600@www.uphomehealth.org
SUMMARY:Michigamme Township Hall- Free Wellness Clinic
DESCRIPTION:Michigamme Township Hall \nSecond Tuesday of Every Month \n10:30 am -12:00 pm
URL:https://www.uphomehealth.org/event/michigamme-township-hall-free-wellness-clinic/2028-04-12/
END:VEVENT
BEGIN:VEVENT
DTSTART;TZID=UTC:20280419T113000
DTEND;TZID=UTC:20280419T123000
DTSTAMP:20260425T133531
CREATED:20251104T154155Z
LAST-MODIFIED:20251104T205431Z
UID:10068805-1839756600-1839760200@www.uphomehealth.org
SUMMARY:Champion Area- Free Wellness Clinic
DESCRIPTION:Champion Township Hall  \nThird Wednesday of Every Month \n11:30 am -12:30 pm \n**In conjunction with Ishpeming Senior Center Congregate Meal- Confirm with Ishpeming Senior Center (906) 485-5527**
URL:https://www.uphomehealth.org/event/champion-area-free-wellness-clinic/2028-04-19/
END:VEVENT
BEGIN:VEVENT
DTSTART;TZID=UTC:20280420T120000
DTEND;TZID=UTC:20280420T130000
DTSTAMP:20260425T133531
CREATED:20251104T154854Z
LAST-MODIFIED:20251104T154854Z
UID:10068689-1839844800-1839848400@www.uphomehealth.org
SUMMARY:Negaunee Senior Center- Free Wellness Clinic
DESCRIPTION:Negaunee Senior Center \nFirst and Third Thursday of Every Month \n12:00 pm -1:00 pm
URL:https://www.uphomehealth.org/event/negaunee-senior-center-free-wellness-clinic-2/2028-04-20/
END:VEVENT
BEGIN:VEVENT
DTSTART;TZID=UTC:20280421T110000
DTEND;TZID=UTC:20280421T120000
DTSTAMP:20260425T133531
CREATED:20251104T151243Z
LAST-MODIFIED:20251104T151243Z
UID:10067848-1839927600-1839931200@www.uphomehealth.org
SUMMARY:Ishpeming Senior Center- Free Wellness Clinic
DESCRIPTION:Ishpeming Senior Center \nThird Friday of Every Month \n11:00 am -12:00 pm
URL:https://www.uphomehealth.org/event/ishpeming-senior-center-free-wellness-clinic/2028-04-21/
END:VEVENT
BEGIN:VEVENT
DTSTART;TZID=UTC:20280427T113000
DTEND;TZID=UTC:20280427T123000
DTSTAMP:20260425T133531
CREATED:20251104T153634Z
LAST-MODIFIED:20251104T153854Z
UID:10068269-1840447800-1840451400@www.uphomehealth.org
SUMMARY:Republic Area- Free Wellness Clinic
DESCRIPTION:Bethany Lutheran Church\, Republic \nFourth Thursday of Every Month \n11:30 am -12:30 pm \n**In conjunction with Ishpeming Senior Center Congregate Meal- Confirm with Ishpeming Senior Center (906) 485-5527**
URL:https://www.uphomehealth.org/event/republic-area-free-wellness-clinic/2028-04-27/
END:VEVENT
BEGIN:VEVENT
DTSTART;TZID=UTC:20280428T110000
DTEND;TZID=UTC:20280428T120000
DTSTAMP:20260425T133531
CREATED:20251103T195651Z
LAST-MODIFIED:20251104T153035Z
UID:10067721-1840532400-1840536000@www.uphomehealth.org
SUMMARY:Marquette Senior Center- Free Wellness Clinic
DESCRIPTION:Marquette Senior Center \n11:00 am -12:00 pm
URL:https://www.uphomehealth.org/event/marquette-senior-center-clinic/2028-04-28/
LOCATION:Marquette Senior Center\, 300 W. Spring Street\, Marquette\, 49855\, United States
END:VEVENT
END:VCALENDAR