BEGIN:VCALENDAR
VERSION:2.0
PRODID:-//UP Home Health &amp; Hospice - ECPv6.15.20//NONSGML v1.0//EN
CALSCALE:GREGORIAN
METHOD:PUBLISH
X-WR-CALNAME:UP Home Health &amp; Hospice
X-ORIGINAL-URL:https://www.uphomehealth.org
X-WR-CALDESC:Events for UP Home Health &amp; Hospice
REFRESH-INTERVAL;VALUE=DURATION:PT1H
X-Robots-Tag:noindex
X-PUBLISHED-TTL:PT1H
BEGIN:VTIMEZONE
TZID:UTC
BEGIN:STANDARD
TZOFFSETFROM:+0000
TZOFFSETTO:+0000
TZNAME:UTC
DTSTART:20240101T000000
END:STANDARD
END:VTIMEZONE
BEGIN:VEVENT
DTSTART;VALUE=DATE:20251101
DTEND;VALUE=DATE:20251201
DTSTAMP:20260424T154438
CREATED:20251104T211839Z
LAST-MODIFIED:20251104T211839Z
UID:10068839-1761955200-1764547199@www.uphomehealth.org
SUMMARY:Living in a World of Angels Awareness Campaign
DESCRIPTION:World of Angels is part of an educational and awareness campaign by U.P. Home Health & Hospice and the U.P. Hospice Foundation. “The idea behind it is that SO many people are involved in Hospice Care\, from the doctors\, the nurses\, the care aides\, bereavement counselors\, and more\,” states Jennie Garrett-Bureau\, CEO/Administrator of U.P. Home Health & Hospice. “But as Cindy Nyquist (our founder) has always emphasized\, Hospice is about more than just the clinical team- it’s about YOU\, the family\, the friends\, and the community members that are consistently caring for a loved one. They are all angels on earth. So\, for the month of November and during these challenging times\, we want you to look around and see that you\, too\, Live in a World of Angels.” \nSpearheaded by the ‘Volunteer Angel Committee\,’ U.P. Home Health & Hospice has partnered with 21 local businesses to host the beautiful displays throughout the county. Community members have a chance to view these displays and win one of 21 baskets by visiting these business partners\, which include Crock and Rocker (Michigamme)\, Bell Medical (Ishpeming)\, Ishpeming Senior Center\, Midtown Bakery (Negaunee)\, Gwinn Clubhouse (Gwinn)\, Up North Lodge (Gwinn)\, Ashley Furniture (Marquette)\, Getz (Marquette)\, Lagniappe (Marquette)\, Elizabeths Chophouse (Marquette)\, Vierling (Marquette)\, 906 & Company (Marquette)\, Peninsula Medical (Marquette)\, Wood Jeweler (Marquette)\, Messiah Lutheran (Marquette)\, Salon Salon (Marquette)\, Bethany Lutheran (Republic)\, First Bank (Marquette)\, Snyder Drugs (Chocolay). In addition\, families and residents of Teal Lake Assisted Living (Negaunee) and Eastwood Nursing Home (Negaunee) also have the chance to win a basket and view their displays.
URL:https://www.uphomehealth.org/event/living-in-a-world-of-angels-awareness-campaign/
END:VEVENT
END:VCALENDAR