BEGIN:VCALENDAR
VERSION:2.0
PRODID:-//UP Home Health &amp; Hospice - ECPv6.15.20//NONSGML v1.0//EN
CALSCALE:GREGORIAN
METHOD:PUBLISH
X-WR-CALNAME:UP Home Health &amp; Hospice
X-ORIGINAL-URL:https://www.uphomehealth.org
X-WR-CALDESC:Events for UP Home Health &amp; Hospice
REFRESH-INTERVAL;VALUE=DURATION:PT1H
X-Robots-Tag:noindex
X-PUBLISHED-TTL:PT1H
BEGIN:VTIMEZONE
TZID:UTC
BEGIN:STANDARD
TZOFFSETFROM:+0000
TZOFFSETTO:+0000
TZNAME:UTC
DTSTART:20260101T000000
END:STANDARD
END:VTIMEZONE
BEGIN:VEVENT
DTSTART;TZID=UTC:20280209T103000
DTEND;TZID=UTC:20280209T120000
DTSTAMP:20260425T161944
CREATED:20251104T153238Z
LAST-MODIFIED:20251104T153238Z
UID:10068087-1833705000-1833710400@www.uphomehealth.org
SUMMARY:Michigamme Township Hall- Free Wellness Clinic
DESCRIPTION:Michigamme Township Hall \nSecond Tuesday of Every Month \n10:30 am -12:00 pm
URL:https://www.uphomehealth.org/event/michigamme-township-hall-free-wellness-clinic/2028-02-09/
LOCATION:MI
END:VEVENT
BEGIN:VEVENT
DTSTART;TZID=UTC:20280204T110000
DTEND;TZID=UTC:20280204T120000
DTSTAMP:20260425T161944
CREATED:20251104T152915Z
LAST-MODIFIED:20251104T152915Z
UID:10067966-1833274800-1833278400@www.uphomehealth.org
SUMMARY:Gwinn Clubhouse- Free Wellness Clinic
DESCRIPTION:Gwinn Clubhouse \nFirst Friday of Every Month \n11:00 am -12:00 pm
URL:https://www.uphomehealth.org/event/gwinn-clubhouse-free-wellness-clinic/2028-02-04/
LOCATION:MI
END:VEVENT
BEGIN:VEVENT
DTSTART;TZID=UTC:20280203T110000
DTEND;TZID=UTC:20280203T120000
DTSTAMP:20260425T161944
CREATED:20251104T154455Z
LAST-MODIFIED:20251104T213536Z
UID:10068863-1833188400-1833192000@www.uphomehealth.org
SUMMARY:Negaunee Senior Center- Free Wellness Clinic
DESCRIPTION:Negaunee Senior Center \nFirst and Third Thursday of Every Month \n12:00 pm -1:00 pm
URL:https://www.uphomehealth.org/event/negaunee-senior-center-free-wellness-clinic/2028-02-03/
LOCATION:MI
END:VEVENT
BEGIN:VEVENT
DTSTART;TZID=UTC:20280128T110000
DTEND;TZID=UTC:20280128T120000
DTSTAMP:20260425T161944
CREATED:20251103T195651Z
LAST-MODIFIED:20251104T153035Z
UID:10067718-1832670000-1832673600@www.uphomehealth.org
SUMMARY:Marquette Senior Center- Free Wellness Clinic
DESCRIPTION:Marquette Senior Center \n11:00 am -12:00 pm
URL:https://www.uphomehealth.org/event/marquette-senior-center-clinic/2028-01-28/
LOCATION:Marquette Senior Center\, 300 W. Spring Street\, Marquette\, 49855\, United States
END:VEVENT
BEGIN:VEVENT
DTSTART;TZID=UTC:20280127T113000
DTEND;TZID=UTC:20280127T123000
DTSTAMP:20260425T161944
CREATED:20251104T153634Z
LAST-MODIFIED:20251104T153854Z
UID:10068266-1832585400-1832589000@www.uphomehealth.org
SUMMARY:Republic Area- Free Wellness Clinic
DESCRIPTION:Bethany Lutheran Church\, Republic \nFourth Thursday of Every Month \n11:30 am -12:30 pm \n**In conjunction with Ishpeming Senior Center Congregate Meal- Confirm with Ishpeming Senior Center (906) 485-5527**
URL:https://www.uphomehealth.org/event/republic-area-free-wellness-clinic/2028-01-27/
LOCATION:MI
END:VEVENT
BEGIN:VEVENT
DTSTART;TZID=UTC:20280121T110000
DTEND;TZID=UTC:20280121T120000
DTSTAMP:20260425T161944
CREATED:20251104T151243Z
LAST-MODIFIED:20251104T151243Z
UID:10067845-1832065200-1832068800@www.uphomehealth.org
SUMMARY:Ishpeming Senior Center- Free Wellness Clinic
DESCRIPTION:Ishpeming Senior Center \nThird Friday of Every Month \n11:00 am -12:00 pm
URL:https://www.uphomehealth.org/event/ishpeming-senior-center-free-wellness-clinic/2028-01-21/
LOCATION:MI
END:VEVENT
BEGIN:VEVENT
DTSTART;TZID=UTC:20280120T120000
DTEND;TZID=UTC:20280120T130000
DTSTAMP:20260425T161944
CREATED:20251104T154854Z
LAST-MODIFIED:20251104T154854Z
UID:10068686-1831982400-1831986000@www.uphomehealth.org
SUMMARY:Negaunee Senior Center- Free Wellness Clinic
DESCRIPTION:Negaunee Senior Center \nFirst and Third Thursday of Every Month \n12:00 pm -1:00 pm
URL:https://www.uphomehealth.org/event/negaunee-senior-center-free-wellness-clinic-2/2028-01-20/
LOCATION:MI
END:VEVENT
BEGIN:VEVENT
DTSTART;TZID=UTC:20280119T113000
DTEND;TZID=UTC:20280119T123000
DTSTAMP:20260425T161944
CREATED:20251104T154155Z
LAST-MODIFIED:20251104T205431Z
UID:10068802-1831894200-1831897800@www.uphomehealth.org
SUMMARY:Champion Area- Free Wellness Clinic
DESCRIPTION:Champion Township Hall  \nThird Wednesday of Every Month \n11:30 am -12:30 pm \n**In conjunction with Ishpeming Senior Center Congregate Meal- Confirm with Ishpeming Senior Center (906) 485-5527**
URL:https://www.uphomehealth.org/event/champion-area-free-wellness-clinic/2028-01-19/
LOCATION:MI
END:VEVENT
BEGIN:VEVENT
DTSTART;TZID=UTC:20280112T103000
DTEND;TZID=UTC:20280112T120000
DTSTAMP:20260425T161944
CREATED:20251104T153238Z
LAST-MODIFIED:20251104T153238Z
UID:10068086-1831285800-1831291200@www.uphomehealth.org
SUMMARY:Michigamme Township Hall- Free Wellness Clinic
DESCRIPTION:Michigamme Township Hall \nSecond Tuesday of Every Month \n10:30 am -12:00 pm
URL:https://www.uphomehealth.org/event/michigamme-township-hall-free-wellness-clinic/2028-01-12/
LOCATION:MI
END:VEVENT
BEGIN:VEVENT
DTSTART;TZID=UTC:20280107T110000
DTEND;TZID=UTC:20280107T120000
DTSTAMP:20260425T161944
CREATED:20251104T152915Z
LAST-MODIFIED:20251104T152915Z
UID:10067965-1830855600-1830859200@www.uphomehealth.org
SUMMARY:Gwinn Clubhouse- Free Wellness Clinic
DESCRIPTION:Gwinn Clubhouse \nFirst Friday of Every Month \n11:00 am -12:00 pm
URL:https://www.uphomehealth.org/event/gwinn-clubhouse-free-wellness-clinic/2028-01-07/
LOCATION:MI
END:VEVENT
BEGIN:VEVENT
DTSTART;TZID=UTC:20280106T110000
DTEND;TZID=UTC:20280106T120000
DTSTAMP:20260425T161944
CREATED:20251104T154455Z
LAST-MODIFIED:20251104T213536Z
UID:10068566-1830769200-1830772800@www.uphomehealth.org
SUMMARY:Negaunee Senior Center- Free Wellness Clinic
DESCRIPTION:Negaunee Senior Center \nFirst and Third Thursday of Every Month \n12:00 pm -1:00 pm
URL:https://www.uphomehealth.org/event/negaunee-senior-center-free-wellness-clinic/2028-01-06/
LOCATION:MI
END:VEVENT
BEGIN:VEVENT
DTSTART;TZID=UTC:20271224T110000
DTEND;TZID=UTC:20271224T120000
DTSTAMP:20260425T161944
CREATED:20251103T195651Z
LAST-MODIFIED:20251104T153035Z
UID:10067717-1829646000-1829649600@www.uphomehealth.org
SUMMARY:Marquette Senior Center- Free Wellness Clinic
DESCRIPTION:Marquette Senior Center \n11:00 am -12:00 pm
URL:https://www.uphomehealth.org/event/marquette-senior-center-clinic/2027-12-24/
LOCATION:Marquette Senior Center\, 300 W. Spring Street\, Marquette\, 49855\, United States
END:VEVENT
BEGIN:VEVENT
DTSTART;TZID=UTC:20271223T113000
DTEND;TZID=UTC:20271223T123000
DTSTAMP:20260425T161944
CREATED:20251104T153634Z
LAST-MODIFIED:20251104T153854Z
UID:10068265-1829561400-1829565000@www.uphomehealth.org
SUMMARY:Republic Area- Free Wellness Clinic
DESCRIPTION:Bethany Lutheran Church\, Republic \nFourth Thursday of Every Month \n11:30 am -12:30 pm \n**In conjunction with Ishpeming Senior Center Congregate Meal- Confirm with Ishpeming Senior Center (906) 485-5527**
URL:https://www.uphomehealth.org/event/republic-area-free-wellness-clinic/2027-12-23/
LOCATION:MI
END:VEVENT
BEGIN:VEVENT
DTSTART;TZID=UTC:20271217T110000
DTEND;TZID=UTC:20271217T120000
DTSTAMP:20260425T161944
CREATED:20251104T151243Z
LAST-MODIFIED:20251104T151243Z
UID:10067844-1829041200-1829044800@www.uphomehealth.org
SUMMARY:Ishpeming Senior Center- Free Wellness Clinic
DESCRIPTION:Ishpeming Senior Center \nThird Friday of Every Month \n11:00 am -12:00 pm
URL:https://www.uphomehealth.org/event/ishpeming-senior-center-free-wellness-clinic/2027-12-17/
LOCATION:MI
END:VEVENT
BEGIN:VEVENT
DTSTART;TZID=UTC:20271216T120000
DTEND;TZID=UTC:20271216T130000
DTSTAMP:20260425T161944
CREATED:20251104T154854Z
LAST-MODIFIED:20251104T154854Z
UID:10068685-1828958400-1828962000@www.uphomehealth.org
SUMMARY:Negaunee Senior Center- Free Wellness Clinic
DESCRIPTION:Negaunee Senior Center \nFirst and Third Thursday of Every Month \n12:00 pm -1:00 pm
URL:https://www.uphomehealth.org/event/negaunee-senior-center-free-wellness-clinic-2/2027-12-16/
LOCATION:MI
END:VEVENT
BEGIN:VEVENT
DTSTART;TZID=UTC:20271215T113000
DTEND;TZID=UTC:20271215T123000
DTSTAMP:20260425T161944
CREATED:20251104T154155Z
LAST-MODIFIED:20251104T205431Z
UID:10068801-1828870200-1828873800@www.uphomehealth.org
SUMMARY:Champion Area- Free Wellness Clinic
DESCRIPTION:Champion Township Hall  \nThird Wednesday of Every Month \n11:30 am -12:30 pm \n**In conjunction with Ishpeming Senior Center Congregate Meal- Confirm with Ishpeming Senior Center (906) 485-5527**
URL:https://www.uphomehealth.org/event/champion-area-free-wellness-clinic/2027-12-15/
LOCATION:MI
END:VEVENT
BEGIN:VEVENT
DTSTART;TZID=UTC:20271208T103000
DTEND;TZID=UTC:20271208T120000
DTSTAMP:20260425T161944
CREATED:20251104T153238Z
LAST-MODIFIED:20251104T153238Z
UID:10068085-1828261800-1828267200@www.uphomehealth.org
SUMMARY:Michigamme Township Hall- Free Wellness Clinic
DESCRIPTION:Michigamme Township Hall \nSecond Tuesday of Every Month \n10:30 am -12:00 pm
URL:https://www.uphomehealth.org/event/michigamme-township-hall-free-wellness-clinic/2027-12-08/
LOCATION:MI
END:VEVENT
BEGIN:VEVENT
DTSTART;TZID=UTC:20271203T110000
DTEND;TZID=UTC:20271203T120000
DTSTAMP:20260425T161944
CREATED:20251104T152915Z
LAST-MODIFIED:20251104T152915Z
UID:10067964-1827831600-1827835200@www.uphomehealth.org
SUMMARY:Gwinn Clubhouse- Free Wellness Clinic
DESCRIPTION:Gwinn Clubhouse \nFirst Friday of Every Month \n11:00 am -12:00 pm
URL:https://www.uphomehealth.org/event/gwinn-clubhouse-free-wellness-clinic/2027-12-03/
LOCATION:MI
END:VEVENT
BEGIN:VEVENT
DTSTART;TZID=UTC:20271202T110000
DTEND;TZID=UTC:20271202T120000
DTSTAMP:20260425T161944
CREATED:20251104T154455Z
LAST-MODIFIED:20251104T213536Z
UID:10068862-1827745200-1827748800@www.uphomehealth.org
SUMMARY:Negaunee Senior Center- Free Wellness Clinic
DESCRIPTION:Negaunee Senior Center \nFirst and Third Thursday of Every Month \n12:00 pm -1:00 pm
URL:https://www.uphomehealth.org/event/negaunee-senior-center-free-wellness-clinic/2027-12-02/
LOCATION:MI
END:VEVENT
BEGIN:VEVENT
DTSTART;TZID=UTC:20271126T110000
DTEND;TZID=UTC:20271126T120000
DTSTAMP:20260425T161944
CREATED:20251103T195651Z
LAST-MODIFIED:20251104T153035Z
UID:10067716-1827226800-1827230400@www.uphomehealth.org
SUMMARY:Marquette Senior Center- Free Wellness Clinic
DESCRIPTION:Marquette Senior Center \n11:00 am -12:00 pm
URL:https://www.uphomehealth.org/event/marquette-senior-center-clinic/2027-11-26/
LOCATION:Marquette Senior Center\, 300 W. Spring Street\, Marquette\, 49855\, United States
END:VEVENT
BEGIN:VEVENT
DTSTART;TZID=UTC:20271125T113000
DTEND;TZID=UTC:20271125T123000
DTSTAMP:20260425T161944
CREATED:20251104T153634Z
LAST-MODIFIED:20251104T153854Z
UID:10068264-1827142200-1827145800@www.uphomehealth.org
SUMMARY:Republic Area- Free Wellness Clinic
DESCRIPTION:Bethany Lutheran Church\, Republic \nFourth Thursday of Every Month \n11:30 am -12:30 pm \n**In conjunction with Ishpeming Senior Center Congregate Meal- Confirm with Ishpeming Senior Center (906) 485-5527**
URL:https://www.uphomehealth.org/event/republic-area-free-wellness-clinic/2027-11-25/
LOCATION:MI
END:VEVENT
BEGIN:VEVENT
DTSTART;TZID=UTC:20271119T110000
DTEND;TZID=UTC:20271119T120000
DTSTAMP:20260425T161944
CREATED:20251104T151243Z
LAST-MODIFIED:20251104T151243Z
UID:10067843-1826622000-1826625600@www.uphomehealth.org
SUMMARY:Ishpeming Senior Center- Free Wellness Clinic
DESCRIPTION:Ishpeming Senior Center \nThird Friday of Every Month \n11:00 am -12:00 pm
URL:https://www.uphomehealth.org/event/ishpeming-senior-center-free-wellness-clinic/2027-11-19/
LOCATION:MI
END:VEVENT
BEGIN:VEVENT
DTSTART;TZID=UTC:20271118T120000
DTEND;TZID=UTC:20271118T130000
DTSTAMP:20260425T161944
CREATED:20251104T154854Z
LAST-MODIFIED:20251104T154854Z
UID:10068684-1826539200-1826542800@www.uphomehealth.org
SUMMARY:Negaunee Senior Center- Free Wellness Clinic
DESCRIPTION:Negaunee Senior Center \nFirst and Third Thursday of Every Month \n12:00 pm -1:00 pm
URL:https://www.uphomehealth.org/event/negaunee-senior-center-free-wellness-clinic-2/2027-11-18/
LOCATION:MI
END:VEVENT
BEGIN:VEVENT
DTSTART;TZID=UTC:20271117T113000
DTEND;TZID=UTC:20271117T123000
DTSTAMP:20260425T161944
CREATED:20251104T154155Z
LAST-MODIFIED:20251104T205431Z
UID:10068800-1826451000-1826454600@www.uphomehealth.org
SUMMARY:Champion Area- Free Wellness Clinic
DESCRIPTION:Champion Township Hall  \nThird Wednesday of Every Month \n11:30 am -12:30 pm \n**In conjunction with Ishpeming Senior Center Congregate Meal- Confirm with Ishpeming Senior Center (906) 485-5527**
URL:https://www.uphomehealth.org/event/champion-area-free-wellness-clinic/2027-11-17/
LOCATION:MI
END:VEVENT
BEGIN:VEVENT
DTSTART;VALUE=DATE:20271111
DTEND;VALUE=DATE:20271112
DTSTAMP:20260425T161944
CREATED:20251104T205123Z
LAST-MODIFIED:20251104T205257Z
UID:10068773-1825891200-1825977599@www.uphomehealth.org
SUMMARY:Veterans Day
DESCRIPTION:November 11\, Private Veterans Day Ceremonies\nAs part of National Care at Home Month and our We Honor Veterans program\, we will be hosting private Veterans Day ceremonies to honor the brave men and women who have served our country that are in our Hospice Program. These intimate gatherings provide a meaningful opportunity to thank our veteran patients for their service and sacrifice\, offering personalized recognition and remembrance in the comfort of their own care setting.
URL:https://www.uphomehealth.org/event/national-care-at-home-month-veterans-day/2027-11-11/
LOCATION:MI
END:VEVENT
BEGIN:VEVENT
DTSTART;TZID=UTC:20271110T103000
DTEND;TZID=UTC:20271110T120000
DTSTAMP:20260425T161944
CREATED:20251104T153238Z
LAST-MODIFIED:20251104T153238Z
UID:10068084-1825842600-1825848000@www.uphomehealth.org
SUMMARY:Michigamme Township Hall- Free Wellness Clinic
DESCRIPTION:Michigamme Township Hall \nSecond Tuesday of Every Month \n10:30 am -12:00 pm
URL:https://www.uphomehealth.org/event/michigamme-township-hall-free-wellness-clinic/2027-11-10/
LOCATION:MI
END:VEVENT
BEGIN:VEVENT
DTSTART;TZID=UTC:20271105T110000
DTEND;TZID=UTC:20271105T120000
DTSTAMP:20260425T161944
CREATED:20251104T152915Z
LAST-MODIFIED:20251104T152915Z
UID:10067963-1825412400-1825416000@www.uphomehealth.org
SUMMARY:Gwinn Clubhouse- Free Wellness Clinic
DESCRIPTION:Gwinn Clubhouse \nFirst Friday of Every Month \n11:00 am -12:00 pm
URL:https://www.uphomehealth.org/event/gwinn-clubhouse-free-wellness-clinic/2027-11-05/
LOCATION:MI
END:VEVENT
BEGIN:VEVENT
DTSTART;TZID=UTC:20271104T110000
DTEND;TZID=UTC:20271104T120000
DTSTAMP:20260425T161944
CREATED:20251104T154455Z
LAST-MODIFIED:20251104T213536Z
UID:10068861-1825326000-1825329600@www.uphomehealth.org
SUMMARY:Negaunee Senior Center- Free Wellness Clinic
DESCRIPTION:Negaunee Senior Center \nFirst and Third Thursday of Every Month \n12:00 pm -1:00 pm
URL:https://www.uphomehealth.org/event/negaunee-senior-center-free-wellness-clinic/2027-11-04/
LOCATION:MI
END:VEVENT
BEGIN:VEVENT
DTSTART;TZID=UTC:20271028T113000
DTEND;TZID=UTC:20271028T123000
DTSTAMP:20260425T161944
CREATED:20251104T153634Z
LAST-MODIFIED:20251104T153854Z
UID:10068263-1824723000-1824726600@www.uphomehealth.org
SUMMARY:Republic Area- Free Wellness Clinic
DESCRIPTION:Bethany Lutheran Church\, Republic \nFourth Thursday of Every Month \n11:30 am -12:30 pm \n**In conjunction with Ishpeming Senior Center Congregate Meal- Confirm with Ishpeming Senior Center (906) 485-5527**
URL:https://www.uphomehealth.org/event/republic-area-free-wellness-clinic/2027-10-28/
LOCATION:MI
END:VEVENT
BEGIN:VEVENT
DTSTART;TZID=UTC:20271022T110000
DTEND;TZID=UTC:20271022T120000
DTSTAMP:20260425T161944
CREATED:20251103T195651Z
LAST-MODIFIED:20251104T153035Z
UID:10067715-1824202800-1824206400@www.uphomehealth.org
SUMMARY:Marquette Senior Center- Free Wellness Clinic
DESCRIPTION:Marquette Senior Center \n11:00 am -12:00 pm
URL:https://www.uphomehealth.org/event/marquette-senior-center-clinic/2027-10-22/
LOCATION:Marquette Senior Center\, 300 W. Spring Street\, Marquette\, 49855\, United States
END:VEVENT
END:VCALENDAR