BEGIN:VCALENDAR
VERSION:2.0
PRODID:-//UP Home Health &amp; Hospice - ECPv6.15.20//NONSGML v1.0//EN
CALSCALE:GREGORIAN
METHOD:PUBLISH
X-WR-CALNAME:UP Home Health &amp; Hospice
X-ORIGINAL-URL:https://www.uphomehealth.org
X-WR-CALDESC:Events for UP Home Health &amp; Hospice
REFRESH-INTERVAL;VALUE=DURATION:PT1H
X-Robots-Tag:noindex
X-PUBLISHED-TTL:PT1H
BEGIN:VTIMEZONE
TZID:UTC
BEGIN:STANDARD
TZOFFSETFROM:+0000
TZOFFSETTO:+0000
TZNAME:UTC
DTSTART:20240101T000000
END:STANDARD
END:VTIMEZONE
BEGIN:VEVENT
DTSTART;TZID=UTC:20260123T110000
DTEND;TZID=UTC:20260123T120000
DTSTAMP:20260424T002753
CREATED:20251103T195651Z
LAST-MODIFIED:20251104T153035Z
UID:10067694-1769166000-1769169600@www.uphomehealth.org
SUMMARY:Marquette Senior Center- Free Wellness Clinic
DESCRIPTION:Marquette Senior Center \n11:00 am -12:00 pm
URL:https://www.uphomehealth.org/event/marquette-senior-center-clinic/2026-01-23/
LOCATION:Marquette Senior Center\, 300 W. Spring Street\, Marquette\, 49855\, United States
END:VEVENT
BEGIN:VEVENT
DTSTART;TZID=UTC:20260122T113000
DTEND;TZID=UTC:20260122T123000
DTSTAMP:20260424T002754
CREATED:20251104T153634Z
LAST-MODIFIED:20251104T153854Z
UID:10068242-1769081400-1769085000@www.uphomehealth.org
SUMMARY:Republic Area- Free Wellness Clinic
DESCRIPTION:Bethany Lutheran Church\, Republic \nFourth Thursday of Every Month \n11:30 am -12:30 pm \n**In conjunction with Ishpeming Senior Center Congregate Meal- Confirm with Ishpeming Senior Center (906) 485-5527**
URL:https://www.uphomehealth.org/event/republic-area-free-wellness-clinic/2026-01-22/
LOCATION:MI
END:VEVENT
BEGIN:VEVENT
DTSTART;TZID=UTC:20260121T113000
DTEND;TZID=UTC:20260121T123000
DTSTAMP:20260424T002754
CREATED:20251104T154155Z
LAST-MODIFIED:20251104T205431Z
UID:10068778-1768995000-1768998600@www.uphomehealth.org
SUMMARY:Champion Area- Free Wellness Clinic
DESCRIPTION:Champion Township Hall  \nThird Wednesday of Every Month \n11:30 am -12:30 pm \n**In conjunction with Ishpeming Senior Center Congregate Meal- Confirm with Ishpeming Senior Center (906) 485-5527**
URL:https://www.uphomehealth.org/event/champion-area-free-wellness-clinic/2026-01-21/
LOCATION:MI
END:VEVENT
BEGIN:VEVENT
DTSTART;TZID=UTC:20260116T110000
DTEND;TZID=UTC:20260116T120000
DTSTAMP:20260424T002754
CREATED:20251104T151243Z
LAST-MODIFIED:20251104T151243Z
UID:10067821-1768561200-1768564800@www.uphomehealth.org
SUMMARY:Ishpeming Senior Center- Free Wellness Clinic
DESCRIPTION:Ishpeming Senior Center \nThird Friday of Every Month \n11:00 am -12:00 pm
URL:https://www.uphomehealth.org/event/ishpeming-senior-center-free-wellness-clinic/2026-01-16/
LOCATION:MI
END:VEVENT
BEGIN:VEVENT
DTSTART;TZID=UTC:20260115T120000
DTEND;TZID=UTC:20260115T130000
DTSTAMP:20260424T002754
CREATED:20251104T154854Z
LAST-MODIFIED:20251104T154854Z
UID:10068662-1768478400-1768482000@www.uphomehealth.org
SUMMARY:Negaunee Senior Center- Free Wellness Clinic
DESCRIPTION:Negaunee Senior Center \nFirst and Third Thursday of Every Month \n12:00 pm -1:00 pm
URL:https://www.uphomehealth.org/event/negaunee-senior-center-free-wellness-clinic-2/2026-01-15/
LOCATION:MI
END:VEVENT
BEGIN:VEVENT
DTSTART;TZID=UTC:20260114T103000
DTEND;TZID=UTC:20260114T120000
DTSTAMP:20260424T002754
CREATED:20251104T153238Z
LAST-MODIFIED:20251104T153238Z
UID:10068062-1768386600-1768392000@www.uphomehealth.org
SUMMARY:Michigamme Township Hall- Free Wellness Clinic
DESCRIPTION:Michigamme Township Hall \nSecond Tuesday of Every Month \n10:30 am -12:00 pm
URL:https://www.uphomehealth.org/event/michigamme-township-hall-free-wellness-clinic/2026-01-14/
LOCATION:MI
END:VEVENT
BEGIN:VEVENT
DTSTART;TZID=UTC:20260102T110000
DTEND;TZID=UTC:20260102T120000
DTSTAMP:20260424T002754
CREATED:20251104T152915Z
LAST-MODIFIED:20251104T152915Z
UID:10067941-1767351600-1767355200@www.uphomehealth.org
SUMMARY:Gwinn Clubhouse- Free Wellness Clinic
DESCRIPTION:Gwinn Clubhouse \nFirst Friday of Every Month \n11:00 am -12:00 pm
URL:https://www.uphomehealth.org/event/gwinn-clubhouse-free-wellness-clinic/2026-01-02/
LOCATION:MI
END:VEVENT
BEGIN:VEVENT
DTSTART;TZID=UTC:20260101T110000
DTEND;TZID=UTC:20260101T120000
DTSTAMP:20260424T002754
CREATED:20251104T154455Z
LAST-MODIFIED:20251104T213536Z
UID:10068841-1767265200-1767268800@www.uphomehealth.org
SUMMARY:Negaunee Senior Center- Free Wellness Clinic
DESCRIPTION:Negaunee Senior Center \nFirst and Third Thursday of Every Month \n12:00 pm -1:00 pm
URL:https://www.uphomehealth.org/event/negaunee-senior-center-free-wellness-clinic/2026-01-01/
LOCATION:MI
END:VEVENT
BEGIN:VEVENT
DTSTART;TZID=UTC:20251226T110000
DTEND;TZID=UTC:20251226T120000
DTSTAMP:20260424T002754
CREATED:20251103T195651Z
LAST-MODIFIED:20251104T153035Z
UID:10067693-1766746800-1766750400@www.uphomehealth.org
SUMMARY:Marquette Senior Center- Free Wellness Clinic
DESCRIPTION:Marquette Senior Center \n11:00 am -12:00 pm
URL:https://www.uphomehealth.org/event/marquette-senior-center-clinic/2025-12-26/
LOCATION:Marquette Senior Center\, 300 W. Spring Street\, Marquette\, 49855\, United States
END:VEVENT
BEGIN:VEVENT
DTSTART;TZID=UTC:20251225T113000
DTEND;TZID=UTC:20251225T123000
DTSTAMP:20260424T002754
CREATED:20251104T153634Z
LAST-MODIFIED:20251104T153854Z
UID:10068241-1766662200-1766665800@www.uphomehealth.org
SUMMARY:Republic Area- Free Wellness Clinic
DESCRIPTION:Bethany Lutheran Church\, Republic \nFourth Thursday of Every Month \n11:30 am -12:30 pm \n**In conjunction with Ishpeming Senior Center Congregate Meal- Confirm with Ishpeming Senior Center (906) 485-5527**
URL:https://www.uphomehealth.org/event/republic-area-free-wellness-clinic/2025-12-25/
LOCATION:MI
END:VEVENT
BEGIN:VEVENT
DTSTART;TZID=UTC:20251219T110000
DTEND;TZID=UTC:20251219T120000
DTSTAMP:20260424T002754
CREATED:20251104T151243Z
LAST-MODIFIED:20251104T151243Z
UID:10067820-1766142000-1766145600@www.uphomehealth.org
SUMMARY:Ishpeming Senior Center- Free Wellness Clinic
DESCRIPTION:Ishpeming Senior Center \nThird Friday of Every Month \n11:00 am -12:00 pm
URL:https://www.uphomehealth.org/event/ishpeming-senior-center-free-wellness-clinic/2025-12-19/
LOCATION:MI
END:VEVENT
BEGIN:VEVENT
DTSTART;TZID=UTC:20251218T120000
DTEND;TZID=UTC:20251218T130000
DTSTAMP:20260424T002754
CREATED:20251104T154854Z
LAST-MODIFIED:20251104T154854Z
UID:10068661-1766059200-1766062800@www.uphomehealth.org
SUMMARY:Negaunee Senior Center- Free Wellness Clinic
DESCRIPTION:Negaunee Senior Center \nFirst and Third Thursday of Every Month \n12:00 pm -1:00 pm
URL:https://www.uphomehealth.org/event/negaunee-senior-center-free-wellness-clinic-2/2025-12-18/
LOCATION:MI
END:VEVENT
BEGIN:VEVENT
DTSTART;TZID=UTC:20251217T113000
DTEND;TZID=UTC:20251217T123000
DTSTAMP:20260424T002754
CREATED:20251104T154155Z
LAST-MODIFIED:20251104T205431Z
UID:10068777-1765971000-1765974600@www.uphomehealth.org
SUMMARY:Champion Area- Free Wellness Clinic
DESCRIPTION:Champion Township Hall  \nThird Wednesday of Every Month \n11:30 am -12:30 pm \n**In conjunction with Ishpeming Senior Center Congregate Meal- Confirm with Ishpeming Senior Center (906) 485-5527**
URL:https://www.uphomehealth.org/event/champion-area-free-wellness-clinic/2025-12-17/
LOCATION:MI
END:VEVENT
BEGIN:VEVENT
DTSTART;TZID=UTC:20251210T103000
DTEND;TZID=UTC:20251210T120000
DTSTAMP:20260424T002754
CREATED:20251104T153238Z
LAST-MODIFIED:20251104T153238Z
UID:10068061-1765362600-1765368000@www.uphomehealth.org
SUMMARY:Michigamme Township Hall- Free Wellness Clinic
DESCRIPTION:Michigamme Township Hall \nSecond Tuesday of Every Month \n10:30 am -12:00 pm
URL:https://www.uphomehealth.org/event/michigamme-township-hall-free-wellness-clinic/2025-12-10/
LOCATION:MI
END:VEVENT
BEGIN:VEVENT
DTSTART;TZID=UTC:20251205T110000
DTEND;TZID=UTC:20251205T120000
DTSTAMP:20260424T002754
CREATED:20251104T152915Z
LAST-MODIFIED:20251104T152915Z
UID:10067940-1764932400-1764936000@www.uphomehealth.org
SUMMARY:Gwinn Clubhouse- Free Wellness Clinic
DESCRIPTION:Gwinn Clubhouse \nFirst Friday of Every Month \n11:00 am -12:00 pm
URL:https://www.uphomehealth.org/event/gwinn-clubhouse-free-wellness-clinic/2025-12-05/
LOCATION:MI
END:VEVENT
BEGIN:VEVENT
DTSTART;TZID=UTC:20251204T110000
DTEND;TZID=UTC:20251204T120000
DTSTAMP:20260424T002754
CREATED:20251104T154455Z
LAST-MODIFIED:20251104T213536Z
UID:10068840-1764846000-1764849600@www.uphomehealth.org
SUMMARY:Negaunee Senior Center- Free Wellness Clinic
DESCRIPTION:Negaunee Senior Center \nFirst and Third Thursday of Every Month \n12:00 pm -1:00 pm
URL:https://www.uphomehealth.org/event/negaunee-senior-center-free-wellness-clinic/2025-12-04/
LOCATION:MI
END:VEVENT
BEGIN:VEVENT
DTSTART;TZID=UTC:20251128T110000
DTEND;TZID=UTC:20251128T120000
DTSTAMP:20260424T002754
CREATED:20251103T195651Z
LAST-MODIFIED:20251104T153035Z
UID:10067692-1764327600-1764331200@www.uphomehealth.org
SUMMARY:Marquette Senior Center- Free Wellness Clinic
DESCRIPTION:Marquette Senior Center \n11:00 am -12:00 pm
URL:https://www.uphomehealth.org/event/marquette-senior-center-clinic/2025-11-28/
LOCATION:Marquette Senior Center\, 300 W. Spring Street\, Marquette\, 49855\, United States
END:VEVENT
BEGIN:VEVENT
DTSTART;TZID=UTC:20251127T113000
DTEND;TZID=UTC:20251127T123000
DTSTAMP:20260424T002754
CREATED:20251104T153634Z
LAST-MODIFIED:20251104T153854Z
UID:10068240-1764243000-1764246600@www.uphomehealth.org
SUMMARY:Republic Area- Free Wellness Clinic
DESCRIPTION:Bethany Lutheran Church\, Republic \nFourth Thursday of Every Month \n11:30 am -12:30 pm \n**In conjunction with Ishpeming Senior Center Congregate Meal- Confirm with Ishpeming Senior Center (906) 485-5527**
URL:https://www.uphomehealth.org/event/republic-area-free-wellness-clinic/2025-11-27/
LOCATION:MI
END:VEVENT
BEGIN:VEVENT
DTSTART;TZID=UTC:20251125T120000
DTEND;TZID=UTC:20251125T123000
DTSTAMP:20260424T002754
CREATED:20251104T211328Z
LAST-MODIFIED:20251104T211352Z
UID:10068837-1764072000-1764073800@www.uphomehealth.org
SUMMARY:How Hospice Helps Coffee Chat: Ishpeming Senior Center
DESCRIPTION:As part of National Care at Home Month\, U.P. Home Health & Hospice and Lake Superior Life Care & Hospice are coming together for How Hospice Helps—an open\, informal discussion on how hospice care supports patients\, families\, and caregivers. This joint event will include a helpful FAQ session about hospice services and practical self-care techniques to use during challenging times. Join us to learn\, share\, and connect in support of compassionate care. Refreshments will be served.
URL:https://www.uphomehealth.org/event/how-hospice-helps-coffee-chat/
LOCATION:MI
END:VEVENT
BEGIN:VEVENT
DTSTART;TZID=UTC:20251121T110000
DTEND;TZID=UTC:20251121T120000
DTSTAMP:20260424T002754
CREATED:20251104T151243Z
LAST-MODIFIED:20251104T151243Z
UID:10067819-1763722800-1763726400@www.uphomehealth.org
SUMMARY:Ishpeming Senior Center- Free Wellness Clinic
DESCRIPTION:Ishpeming Senior Center \nThird Friday of Every Month \n11:00 am -12:00 pm
URL:https://www.uphomehealth.org/event/ishpeming-senior-center-free-wellness-clinic/2025-11-21/
LOCATION:MI
END:VEVENT
BEGIN:VEVENT
DTSTART;TZID=UTC:20251120T120000
DTEND;TZID=UTC:20251120T130000
DTSTAMP:20260424T002754
CREATED:20251104T154854Z
LAST-MODIFIED:20251104T154854Z
UID:10068660-1763640000-1763643600@www.uphomehealth.org
SUMMARY:Negaunee Senior Center- Free Wellness Clinic
DESCRIPTION:Negaunee Senior Center \nFirst and Third Thursday of Every Month \n12:00 pm -1:00 pm
URL:https://www.uphomehealth.org/event/negaunee-senior-center-free-wellness-clinic-2/2025-11-20/
LOCATION:MI
END:VEVENT
BEGIN:VEVENT
DTSTART;TZID=UTC:20251119T113000
DTEND;TZID=UTC:20251119T123000
DTSTAMP:20260424T002754
CREATED:20251104T154155Z
LAST-MODIFIED:20251104T205431Z
UID:10068776-1763551800-1763555400@www.uphomehealth.org
SUMMARY:Champion Area- Free Wellness Clinic
DESCRIPTION:Champion Township Hall  \nThird Wednesday of Every Month \n11:30 am -12:30 pm \n**In conjunction with Ishpeming Senior Center Congregate Meal- Confirm with Ishpeming Senior Center (906) 485-5527**
URL:https://www.uphomehealth.org/event/champion-area-free-wellness-clinic/2025-11-19/
LOCATION:MI
END:VEVENT
BEGIN:VEVENT
DTSTART;TZID=UTC:20251118T110000
DTEND;TZID=UTC:20251118T113000
DTSTAMP:20260424T002754
CREATED:20251104T211521Z
LAST-MODIFIED:20251104T211521Z
UID:10068838-1763463600-1763465400@www.uphomehealth.org
SUMMARY:How Hospice Helps Coffee Chat: Negaunee Senior Center
DESCRIPTION:As part of National Care at Home Month\, U.P. Home Health & Hospice and Lake Superior Life Care & Hospice are coming together for How Hospice Helps—an open\, informal discussion on how hospice care supports patients\, families\, and caregivers. This joint event will include a helpful FAQ session about hospice services and practical self-care techniques to use during challenging times. Join us to learn\, share\, and connect in support of compassionate care. Refreshments will be served.
URL:https://www.uphomehealth.org/event/how-hospice-helps-coffee-chat-negaunee-senior-center/
LOCATION:MI
END:VEVENT
BEGIN:VEVENT
DTSTART;TZID=UTC:20251114T080000
DTEND;TZID=UTC:20251201T170000
DTSTAMP:20260424T002754
CREATED:20251104T205851Z
LAST-MODIFIED:20251104T211216Z
UID:10068836-1763107200-1764608400@www.uphomehealth.org
SUMMARY:Super One Pin Pad Campaign
DESCRIPTION:Super One Marquette & Negaunee are helping support the U.P. Hospice Foundation through their Pin Pad Campaign. Shoppers can round-up their purchases or donate at checkout to make a difference\, with all donations directly benefiting programs that provide compassionate care\, support\, and resources to patients and families in our community. Every small contribution helps hospice care possible.
URL:https://www.uphomehealth.org/event/super-one-pin-pad-campaign/
LOCATION:Super One
END:VEVENT
BEGIN:VEVENT
DTSTART;TZID=UTC:20251112T103000
DTEND;TZID=UTC:20251112T120000
DTSTAMP:20260424T002754
CREATED:20251104T153238Z
LAST-MODIFIED:20251104T153238Z
UID:10068060-1762943400-1762948800@www.uphomehealth.org
SUMMARY:Michigamme Township Hall- Free Wellness Clinic
DESCRIPTION:Michigamme Township Hall \nSecond Tuesday of Every Month \n10:30 am -12:00 pm
URL:https://www.uphomehealth.org/event/michigamme-township-hall-free-wellness-clinic/2025-11-12/
LOCATION:MI
END:VEVENT
BEGIN:VEVENT
DTSTART;VALUE=DATE:20251111
DTEND;VALUE=DATE:20251112
DTSTAMP:20260424T002754
CREATED:20251104T205123Z
LAST-MODIFIED:20251104T205257Z
UID:10068771-1762819200-1762905599@www.uphomehealth.org
SUMMARY:Veterans Day
DESCRIPTION:November 11\, Private Veterans Day Ceremonies\nAs part of National Care at Home Month and our We Honor Veterans program\, we will be hosting private Veterans Day ceremonies to honor the brave men and women who have served our country that are in our Hospice Program. These intimate gatherings provide a meaningful opportunity to thank our veteran patients for their service and sacrifice\, offering personalized recognition and remembrance in the comfort of their own care setting.
URL:https://www.uphomehealth.org/event/national-care-at-home-month-veterans-day/2025-11-11/
LOCATION:MI
END:VEVENT
BEGIN:VEVENT
DTSTART;TZID=UTC:20251107T110000
DTEND;TZID=UTC:20251107T120000
DTSTAMP:20260424T002754
CREATED:20251104T152915Z
LAST-MODIFIED:20251104T152915Z
UID:10067939-1762513200-1762516800@www.uphomehealth.org
SUMMARY:Gwinn Clubhouse- Free Wellness Clinic
DESCRIPTION:Gwinn Clubhouse \nFirst Friday of Every Month \n11:00 am -12:00 pm
URL:https://www.uphomehealth.org/event/gwinn-clubhouse-free-wellness-clinic/2025-11-07/
LOCATION:MI
END:VEVENT
BEGIN:VEVENT
DTSTART;TZID=UTC:20251106T110000
DTEND;TZID=UTC:20251106T120000
DTSTAMP:20260424T002754
CREATED:20251104T154455Z
LAST-MODIFIED:20251104T213536Z
UID:10068540-1762426800-1762430400@www.uphomehealth.org
SUMMARY:Negaunee Senior Center- Free Wellness Clinic
DESCRIPTION:Negaunee Senior Center \nFirst and Third Thursday of Every Month \n12:00 pm -1:00 pm
URL:https://www.uphomehealth.org/event/negaunee-senior-center-free-wellness-clinic/2025-11-06/
LOCATION:MI
END:VEVENT
BEGIN:VEVENT
DTSTART;VALUE=DATE:20251101
DTEND;VALUE=DATE:20251201
DTSTAMP:20260424T002754
CREATED:20251104T211839Z
LAST-MODIFIED:20251104T211839Z
UID:10068839-1761955200-1764547199@www.uphomehealth.org
SUMMARY:Living in a World of Angels Awareness Campaign
DESCRIPTION:World of Angels is part of an educational and awareness campaign by U.P. Home Health & Hospice and the U.P. Hospice Foundation. “The idea behind it is that SO many people are involved in Hospice Care\, from the doctors\, the nurses\, the care aides\, bereavement counselors\, and more\,” states Jennie Garrett-Bureau\, CEO/Administrator of U.P. Home Health & Hospice. “But as Cindy Nyquist (our founder) has always emphasized\, Hospice is about more than just the clinical team- it’s about YOU\, the family\, the friends\, and the community members that are consistently caring for a loved one. They are all angels on earth. So\, for the month of November and during these challenging times\, we want you to look around and see that you\, too\, Live in a World of Angels.” \nSpearheaded by the ‘Volunteer Angel Committee\,’ U.P. Home Health & Hospice has partnered with 21 local businesses to host the beautiful displays throughout the county. Community members have a chance to view these displays and win one of 21 baskets by visiting these business partners\, which include Crock and Rocker (Michigamme)\, Bell Medical (Ishpeming)\, Ishpeming Senior Center\, Midtown Bakery (Negaunee)\, Gwinn Clubhouse (Gwinn)\, Up North Lodge (Gwinn)\, Ashley Furniture (Marquette)\, Getz (Marquette)\, Lagniappe (Marquette)\, Elizabeths Chophouse (Marquette)\, Vierling (Marquette)\, 906 & Company (Marquette)\, Peninsula Medical (Marquette)\, Wood Jeweler (Marquette)\, Messiah Lutheran (Marquette)\, Salon Salon (Marquette)\, Bethany Lutheran (Republic)\, First Bank (Marquette)\, Snyder Drugs (Chocolay). In addition\, families and residents of Teal Lake Assisted Living (Negaunee) and Eastwood Nursing Home (Negaunee) also have the chance to win a basket and view their displays.
URL:https://www.uphomehealth.org/event/living-in-a-world-of-angels-awareness-campaign/
LOCATION:MI
END:VEVENT
END:VCALENDAR